Workbook

Sheet Rekapitulácia stavby
A1: Export Komplet | BA1: 2.0 | BT1: False | BU1: False | BV1: {0363c418-ab15-499c-b3a9-4492acb51bbc}
AR2: >> skryté stĺpce << | BS2: 0,001 | BT2: 20
BS3: 0,001 | BT3: 20
D4: REKAPITULÁCIA STAVBY | AS4: v --- nižšie sa nachádzajú doplnkové a pomocné údaje k zostavám --- v | BE4: Návod na vyplnenie | BS4: 0,001
D5: Kód: | K5: 15696 | BE5: Meniť je možné iba bunky so žltým podfarbením!_x000D_ _x000D_ 1) na prvom liste Rekapitulácie stavby vyplňte v zostave_x000D_ _x000D_ a) Rekapitulácia stavby_x000D_ - údaje o Zhotoviteľovi_x000D_ (prenesú sa do ostatných zostáv aj v iných listoch)_x000D_ _x000D_ b) Rekapitulácia objektov stavby_x000D_ - potrebné Ostatné náklady_x000D_ _x000D_ 2) na vybraných listoch vyplňte v zostave_x000D_ _x000D_ a) Krycí list_x000D_ - údaje o Zhotoviteľovi, pokiaľ sa líšia od údajov o Zhotoviteľovi na Rekapitulácii stavby_x000D_ (údaje se prenesú do ostatných zostav v danom liste)_x000D_ _x000D_ b) Rekapitulácia rozpočtu_x000D_ - potrebné Ostatné náklady_x000D_ _x000D_ c) Celkové náklady za stavbu_x000D_ - ceny na položkách_x000D_ - množstvo, pokiaľ má žlté podfarbenie_x000D_ - a v prípade potreby poznámku (tá je v skrytom stĺpci) | BS5: 0,001
D6: Stavba: | K6: LUMEN- ŠZ, ZpS a DSS - oprava malieb stravovacieho zariadenia | BS6: 0,001
D7: JKSO: | AK7: KS: | BS7: 0,001
D8: Miesto: | K8: Trebišov | AK8: Dátum: | AN8: 8. 11. 2021 | BS8: 0,001
BS9: 0,001
D10: Objednávateľ: | AK10: IČO: | BS10: 0,001
E11: LUMEN- ŠZ, ZpS a DSS, Trebišov | AK11: IČ DPH: | BS11: 0,001
BS12: 0,001
D13: Zhotoviteľ: | AK13: IČO: | AN13: Vyplň údaj | BS13: 0,001
E14: Vyplň údaj | AK14: IČ DPH: | AN14: Vyplň údaj | BS14: 0,001
BS15: False
D16: Projektant: | AK16: IČO: | BS16: False
AK17: IČ DPH: | BS17: True
BS18: 0,01
D19: Spracovateľ: | AK19: IČO: | BS19: 0,01
AK20: IČ DPH: | BS20: True
D22: Poznámka:
D26: Cena bez DPH | AK26: =ROUND(AG94,2) -> 0
L28: Sadzba dane | W28: Základ dane | AK28: Výška dane
D29: DPH | F29: základná | L29: 0.2 | W29: =ROUND(AZ94, 2) -> 0 | AK29: =ROUND(AV94, 2) -> 0
F30: znížená | L30: 0.2 | W30: =ROUND(BA94, 2) -> 0 | AK30: =ROUND(AW94, 2) -> 0
F31: zákl. prenesená | L31: 0.2 | W31: =ROUND(BB94, 2) -> 0 | AK31: 0
F32: zníž. prenesená | L32: 0.2 | W32: =ROUND(BC94, 2) -> 0 | AK32: 0
F33: nulová | L33: 0 | W33: =ROUND(BD94, 2) -> 0 | AK33: 0
D35: Cena s DPH | T35: v | X35: EUR | AK35: =SUM(AK26:AK33) -> 0
D49: Projektant | AH49: Spracovateľ
D60: Dátum a podpis: | V60: Pečiatka | AH60: Dátum a podpis: | AM60: Pečiatka
D64: Objednávateľ | AH64: Zhotoviteľ
D75: Dátum a podpis: | V75: Pečiatka | AH75: Dátum a podpis: | AM75: Pečiatka
C82: REKAPITULÁCIA OBJEKTOV STAVBY
C84: Kód: | L84: =K5 -> 15696
C85: Stavba: | L85: =K6 -> LUMEN- ŠZ, ZpS a DSS - oprava malieb stravovacieho zariadenia
C87: Miesto: | L87: =IF(K8="","",K8) -> Trebišov | AI87: Dátum: | AM87: =IF(AN8= "","",AN8) -> 8. 11. 2021
C89: Objednávateľ: | L89: =IF(E11= "","",E11) -> LUMEN- ŠZ, ZpS a DSS, Trebišov | AI89: Projektant: | AM89: =IF(E17="","",E17) | AS89: Informatívne údaje z listov zákaziek
C90: Zhotoviteľ: | L90: =IF(E14= "Vyplň údaj","",E14) | AI90: Spracovateľ: | AM90: =IF(E20="","",E20)
C92: Kód | I92: Popis | AG92: Cena bez DPH [EUR] | AN92: Cena s DPH [EUR] | AQ92: Typ | AS92: z toho Ostat._x000D_ náklady [EUR] | AT92: DPH [EUR] | AU92: Normohodiny [h] | AV92: DPH základná [EUR] | AW92: DPH znížená [EUR] | AX92: DPH základná prenesená_x000D_ [EUR] | AY92: DPH znížená prenesená_x000D_ [EUR] | AZ92: Základňa_x000D_ DPH základná | BA92: Základňa_x000D_ DPH znížená | BB92: Základňa_x000D_ DPH zákl. prenesená | BC92: Základňa_x000D_ DPH zníž. prenesená | BD92: Základňa_x000D_ DPH nulová
C94: Náklady z rozpočtov | AG94: =ROUND(AG95,2) -> 0 | AN94: =SUM(AG94,AT94) -> 0 | AS94: =ROUND(AS95,2) -> 0 | AT94: =ROUND(SUM(AV94:AW94),2) -> 0 | AU94: =ROUND(AU95,5) -> 0 | AV94: =ROUND(AZ94*L29,2) -> 0 | AW94: =ROUND(BA94*L30,2) -> 0 | AX94: =ROUND(BB94*L29,2) -> 0 | AY94: =ROUND(BC94*L30,2) -> 0 | AZ94: =ROUND(AZ95,2) -> 0 | BA94: =ROUND(BA95,2) -> 0 | BB94: =ROUND(BB95,2) -> 0 | BC94: =ROUND(BC95,2) -> 0 | BD94: =ROUND(BD95,2) -> 0 | BS94: D | BT94: 0 | BV94: IMPORT | BW94: {0363c418-ab15-499c-b3a9-4492acb51bbc} | BX94: {00000000-0000-0000-0000-000000000000}
A95: / | D95: 15696 | J95: LUMEN- ŠZ, ZpS a DSS - oprava malieb stravovacieho zariadenia | AG95: ='15696 - LUMEN- ŠZ, ZpS a ...'!J30 -> 0 | AN95: =SUM(AG95,AT95) -> 0 | AQ95: STA | AS95: 0 | AT95: =ROUND(SUM(AV95:AW95),2) -> 0 | AU95: ='15696 - LUMEN- ŠZ, ZpS a ...'!P127 -> 0 | AV95: ='15696 - LUMEN- ŠZ, ZpS a ...'!J33 -> 0 | AW95: ='15696 - LUMEN- ŠZ, ZpS a ...'!J34 -> 0 | AX95: ='15696 - LUMEN- ŠZ, ZpS a ...'!J35 -> 0 | AY95: ='15696 - LUMEN- ŠZ, ZpS a ...'!J36 -> 0 | AZ95: ='15696 - LUMEN- ŠZ, ZpS a ...'!F33 -> 0 | BA95: ='15696 - LUMEN- ŠZ, ZpS a ...'!F34 -> 0 | BB95: ='15696 - LUMEN- ŠZ, ZpS a ...'!F35 -> 0 | BC95: ='15696 - LUMEN- ŠZ, ZpS a ...'!F36 -> 0 | BD95: ='15696 - LUMEN- ŠZ, ZpS a ...'!F37 -> 0 | BT95: 1 | BU95: ###NOINSERT### | BV95: IMPORT | BW95: {0363c418-ab15-499c-b3a9-4492acb51bbc} | BX95: {00000000-0000-0000-0000-000000000000}

Sheet 15696 - LUMEN- ŠZ, ZpS a ...
L2: >> skryté stĺpce << | AT2: {0363c418-ab15-499c-b3a9-4492acb51bbc}
AT3: 0
D4: KRYCÍ LIST ROZPOČTU | M4: v --- nižšie sa nachádzajú doplnkové a pomocné údaje k zostavám --- v | AT4: False
D6: Stavba:
E7: LUMEN- ŠZ, ZpS a DSS - oprava malieb stravovacieho zariadenia
D9: JKSO: | I9: KS:
D10: Miesto: | F10: Trebišov | I10: Dátum:
D12: Objednávateľ: | I12: IČO:
E13: LUMEN- ŠZ, ZpS a DSS, Trebišov | I13: IČ DPH:
D15: Zhotoviteľ: | I15: IČO: | J15: ='Rekapitulácia stavby'!AN13 -> Vyplň údaj
E16: ='Rekapitulácia stavby'!E14 -> Vyplň údaj | I16: IČ DPH: | J16: ='Rekapitulácia stavby'!AN14 -> Vyplň údaj
D18: Projektant: | I18: IČO: | J18: =IF('Rekapitulácia stavby'!AN16="","",'Rekapitulácia stavby'!AN16)
E19: =IF('Rekapitulácia stavby'!E17="","",'Rekapitulácia stavby'!E17) | I19: IČ DPH: | J19: =IF('Rekapitulácia stavby'!AN17="","",'Rekapitulácia stavby'!AN17)
D21: Spracovateľ: | I21: IČO: | J21: =IF('Rekapitulácia stavby'!AN19="","",'Rekapitulácia stavby'!AN19)
E22: =IF('Rekapitulácia stavby'!E20="","",'Rekapitulácia stavby'!E20) | I22: IČ DPH: | J22: =IF('Rekapitulácia stavby'!AN20="","",'Rekapitulácia stavby'!AN20)
D24: Poznámka:
D28: Náklady z rozpočtu | J28: =J94 -> 0
D29: Ostatné náklady | J29: =J102 -> 0
D30: Cena bez DPH | J30: =ROUND(J28 + J29, 2) -> 0
F32: Základ dane | I32: Sadzba dane | J32: Výška dane
D33: DPH | E33: základná | F33: =ROUND((SUM(BE102:BE109) + SUM(BE127:BE140)), 2) -> 0 | I33: 0.2 | J33: =ROUND(((SUM(BE102:BE109) + SUM(BE127:BE140))*I33), 2) -> 0
E34: znížená | F34: =ROUND((SUM(BF102:BF109) + SUM(BF127:BF140)), 2) -> 0 | I34: 0.2 | J34: =ROUND(((SUM(BF102:BF109) + SUM(BF127:BF140))*I34), 2) -> 0
E35: zákl. prenesená | F35: =ROUND((SUM(BG102:BG109) + SUM(BG127:BG140)), 2) -> 0 | I35: 0.2 | J35: =0 -> 0
E36: zníž. prenesená | F36: =ROUND((SUM(BH102:BH109) + SUM(BH127:BH140)), 2) -> 0 | I36: 0.2 | J36: =0 -> 0
E37: nulová | F37: =ROUND((SUM(BI102:BI109) + SUM(BI127:BI140)), 2) -> 0 | I37: 0 | J37: =0 -> 0
D39: Cena s DPH | G39: v | H39: EUR | J39: =SUM(J30:J37) -> 0
D50: Projektant | G50: Spracovateľ
D61: Dátum a podpis: | F61: Pečiatka | G61: Dátum a podpis: | J61: Pečiatka
D65: Objednávateľ | G65: Zhotoviteľ
D76: Dátum a podpis: | F76: Pečiatka | G76: Dátum a podpis: | J76: Pečiatka
C82: REKAPITULÁCIA ROZPOČTU
C84: Stavba:
E85: =E7 -> LUMEN- ŠZ, ZpS a DSS - oprava malieb stravovacieho zariadenia
C87: Miesto: | F87: =F10 -> Trebišov | I87: Dátum: | J87: =IF(J10="","",J10)
C89: Objednávateľ: | F89: =E13 -> LUMEN- ŠZ, ZpS a DSS, Trebišov | I89: Projektant: | J89: =E19
C90: Zhotoviteľ: | F90: =IF(E16="","",E16) -> Vyplň údaj | I90: Spracovateľ: | J90: =E22
C92: Kód dielu - Popis | J92: Cena celkom [EUR]
C94: 1) Náklady z rozpočtu | J94: =J127 -> 0 | AU94: -1
D95: HSV - Práce a dodávky HSV | J95: =J128 -> 0
D96: 6 - Úpravy povrchov, podlahy, osadenie | J96: =J129 -> 0
D97: PSV - Práce a dodávky PSV | J97: =J131 -> 0
D98: 783 - Nátery | J98: =J132 -> 0
D99: 784 - Maľby | J99: =J135 -> 0
C102: 2) Ostatné náklady | J102: =ROUND(J103 + J104 + J105 + J106 + J107 + J108,2) -> 0 | N102: DPH
D103: Zariad. staveniska | J103: 0 | N103: znížená | AY103: VRN | BE103: =IF(N103="základná",J103,0) -> 0 | BF103: =IF(N103="znížená",J103,0) -> 0 | BG103: =IF(N103="zákl. prenesená",J103,0) -> 0 | BH103: =IF(N103="zníž. prenesená",J103,0) -> 0 | BI103: =IF(N103="nulová",J103,0) -> 0 | BJ103: 2
D104: Mimostav. doprava | J104: 0 | N104: znížená | AY104: VRN | BE104: =IF(N104="základná",J104,0) -> 0 | BF104: =IF(N104="znížená",J104,0) -> 0 | BG104: =IF(N104="zákl. prenesená",J104,0) -> 0 | BH104: =IF(N104="zníž. prenesená",J104,0) -> 0 | BI104: =IF(N104="nulová",J104,0) -> 0 | BJ104: 2
D105: Územné vplyvy | J105: 0 | N105: znížená | AY105: VRN | BE105: =IF(N105="základná",J105,0) -> 0 | BF105: =IF(N105="znížená",J105,0) -> 0 | BG105: =IF(N105="zákl. prenesená",J105,0) -> 0 | BH105: =IF(N105="zníž. prenesená",J105,0) -> 0 | BI105: =IF(N105="nulová",J105,0) -> 0 | BJ105: 2
D106: Prevádzkové vplyvy | J106: 0 | N106: znížená | AY106: VRN | BE106: =IF(N106="základná",J106,0) -> 0 | BF106: =IF(N106="znížená",J106,0) -> 0 | BG106: =IF(N106="zákl. prenesená",J106,0) -> 0 | BH106: =IF(N106="zníž. prenesená",J106,0) -> 0 | BI106: =IF(N106="nulová",J106,0) -> 0 | BJ106: 2
D107: Ostatné | J107: 0 | N107: znížená | AY107: VRN | BE107: =IF(N107="základná",J107,0) -> 0 | BF107: =IF(N107="znížená",J107,0) -> 0 | BG107: =IF(N107="zákl. prenesená",J107,0) -> 0 | BH107: =IF(N107="zníž. prenesená",J107,0) -> 0 | BI107: =IF(N107="nulová",J107,0) -> 0 | BJ107: 2
D108: Kompletačná činnosť | J108: =ROUND(J28*T108,2) -> 0 | N108: znížená | AY108: KOMPLETACNA | BE108: =IF(N108="základná",J108,0) -> 0 | BF108: =IF(N108="znížená",J108,0) -> 0 | BG108: =IF(N108="zákl. prenesená",J108,0) -> 0 | BH108: =IF(N108="zníž. prenesená",J108,0) -> 0 | BI108: =IF(N108="nulová",J108,0) -> 0 | BJ108: 2
C110: Celkové náklady za stavbu 1) + 2) | J110: =ROUND(J94+J102,2) -> 0
C116: ROZPOČET
C118: Stavba:
E119: =E7 -> LUMEN- ŠZ, ZpS a DSS - oprava malieb stravovacieho zariadenia
C121: Miesto: | F121: =F10 -> Trebišov | I121: Dátum: | J121: =IF(J10="","",J10)
C123: Objednávateľ: | F123: =E13 -> LUMEN- ŠZ, ZpS a DSS, Trebišov | I123: Projektant: | J123: =E19
C124: Zhotoviteľ: | F124: =IF(E16="","",E16) -> Vyplň údaj | I124: Spracovateľ: | J124: =E22
C126: PČ | D126: Typ | E126: Kód | F126: Popis | G126: MJ | H126: Množstvo | I126: J.cena [EUR] | J126: Cena celkom [EUR] | K126: Cenová sústava | N126: DPH | O126: J. Nh [h] | P126: Nh celkom [h] | Q126: J. hmotnosť [t] | R126: Hmotnosť celkom [t] | S126: J. suť [t] | T126: Suť Celkom [t]
C127: Náklady z rozpočtu | J127: =BK127 -> 0 | P127: =P128+P131 -> 0 | R127: =R128+R131 -> 0.59749333 | T127: =T128+T131 -> 0 | AT127: D | AU127: -1 | BK127: =BK128+BK131 -> 0
D128: D | E128: HSV | F128: Práce a dodávky HSV | J128: =BK128 -> 0 | P128: =P129 -> 0 | R128: =R129 -> 0.04176 | T128: =T129 -> 0 | AR128: 1 | AT128: D | AU128: 0 | AY128: ROZPOCET | BK128: =BK129 -> 0
D129: D | E129: 6 | F129: Úpravy povrchov, podlahy, osadenie | J129: =BK129 -> 0 | P129: =P130 -> 0 | R129: =R130 -> 0.04176 | T129: =T130 -> 0 | AR129: 1 | AT129: D | AU129: 1 | AY129: ROZPOCET | BK129: =BK130 -> 0
C130: 1 | D130: K | E130: 611421431.S | F130: Oprava vnútorných vápenných omietok stropov železobetónových rovných tvárnicových a klenieb, opravovaná plocha nad 30 do 50 % štukových | G130: m2 | H130: 2 | J130: =ROUND(I130*H130,3) -> 0 | N130: znížená | P130: =O130*H130 -> 0 | Q130: 0.02088 | R130: =Q130*H130 -> 0.04176 | S130: 0 | T130: =S130*H130 -> 0 | AR130: 4 | AT130: K | AU130: 2 | AY130: ROZPOCET | BE130: =IF(N130="základná",J130,0) -> 0 | BF130: =IF(N130="znížená",J130,0) -> 0 | BG130: =IF(N130="zákl. prenesená",J130,0) -> 0 | BH130: =IF(N130="zníž. prenesená",J130,0) -> 0 | BI130: =IF(N130="nulová",J130,0) -> 0 | BJ130: 2 | BK130: =ROUND(I130*H130,3) -> 0 | BL130: 4 | BM130: 1161076400
D131: D | E131: PSV | F131: Práce a dodávky PSV | J131: =BK131 -> 0 | P131: =P132+P135 -> 0 | R131: =R132+R135 -> 0.55573333 | T131: =T132+T135 -> 0 | AR131: 2 | AT131: D | AU131: 0 | AY131: ROZPOCET | BK131: =BK132+BK135 -> 0
D132: D | E132: 783 | F132: Nátery | J132: =BK132 -> 0 | P132: =SUM(P133:P134) -> 0 | R132: =SUM(R133:R134) -> 0.0651 | T132: =SUM(T133:T134) -> 0 | AR132: 2 | AT132: D | AU132: 1 | AY132: ROZPOCET | BK132: =SUM(BK133:BK134) -> 0
C133: 2 | D133: K | E133: 783801812.S | F133: Odstránenie starých náterov z omietok oškrabaním s obrúsením stien | G133: m2 | H133: 4 | J133: =ROUND(I133*H133,3) -> 0 | N133: znížená | P133: =O133*H133 -> 0 | Q133: 0 | R133: =Q133*H133 -> 0 | S133: 0 | T133: =S133*H133 -> 0 | AR133: 16 | AT133: K | AU133: 2 | AY133: ROZPOCET | BE133: =IF(N133="základná",J133,0) -> 0 | BF133: =IF(N133="znížená",J133,0) -> 0 | BG133: =IF(N133="zákl. prenesená",J133,0) -> 0 | BH133: =IF(N133="zníž. prenesená",J133,0) -> 0 | BI133: =IF(N133="nulová",J133,0) -> 0 | BJ133: 2 | BK133: =ROUND(I133*H133,3) -> 0 | BL133: 16 | BM133: -1314390554
C134: 3 | D134: K | E134: 783824220.S | F134: Nátery syntetické farby bielej betónových povrchov stien dvojnásobné 1x s emailovaním | G134: m2 | H134: 155 | J134: =ROUND(I134*H134,3) -> 0 | N134: znížená | P134: =O134*H134 -> 0 | Q134: 0.00042 | R134: =Q134*H134 -> 0.0651 | S134: 0 | T134: =S134*H134 -> 0 | AR134: 16 | AT134: K | AU134: 2 | AY134: ROZPOCET | BE134: =IF(N134="základná",J134,0) -> 0 | BF134: =IF(N134="znížená",J134,0) -> 0 | BG134: =IF(N134="zákl. prenesená",J134,0) -> 0 | BH134: =IF(N134="zníž. prenesená",J134,0) -> 0 | BI134: =IF(N134="nulová",J134,0) -> 0 | BJ134: 2 | BK134: =ROUND(I134*H134,3) -> 0 | BL134: 16 | BM134: 768514011
D135: D | E135: 784 | F135: Maľby | J135: =BK135 -> 0 | P135: =SUM(P136:P140) -> 0 | R135: =SUM(R136:R140) -> 0.49063333 | T135: =SUM(T136:T140) -> 0 | AR135: 2 | AT135: D | AU135: 1 | AY135: ROZPOCET | BK135: =SUM(BK136:BK140) -> 0
C136: 4 | D136: K | E136: 784410120.S | F136: Penetrovanie jednonásobné hrubozrnných, savých podkladov výšky do 3,80 m | G136: m2 | H136: 750 | J136: =ROUND(I136*H136,3) -> 0 | N136: znížená | P136: =O136*H136 -> 0 | Q136: 0.00017 | R136: =Q136*H136 -> 0.1275 | S136: 0 | T136: =S136*H136 -> 0 | AR136: 16 | AT136: K | AU136: 2 | AY136: ROZPOCET | BE136: =IF(N136="základná",J136,0) -> 0 | BF136: =IF(N136="znížená",J136,0) -> 0 | BG136: =IF(N136="zákl. prenesená",J136,0) -> 0 | BH136: =IF(N136="zníž. prenesená",J136,0) -> 0 | BI136: =IF(N136="nulová",J136,0) -> 0 | BJ136: 2 | BK136: =ROUND(I136*H136,3) -> 0 | BL136: 16 | BM136: 910005190
C137: 5 | D137: K | E137: 784418011.S | F137: Zakrývanie otvorov, podláh a zariadení fóliou v miestnostiach alebo na schodisku | G137: m2 | H137: 250 | J137: =ROUND(I137*H137,3) -> 0 | N137: znížená | P137: =O137*H137 -> 0 | Q137: 0.00015 | R137: =Q137*H137 -> 0.0375 | S137: 0 | T137: =S137*H137 -> 0 | AR137: 16 | AT137: K | AU137: 2 | AY137: ROZPOCET | BE137: =IF(N137="základná",J137,0) -> 0 | BF137: =IF(N137="znížená",J137,0) -> 0 | BG137: =IF(N137="zákl. prenesená",J137,0) -> 0 | BH137: =IF(N137="zníž. prenesená",J137,0) -> 0 | BI137: =IF(N137="nulová",J137,0) -> 0 | BJ137: 2 | BK137: =ROUND(I137*H137,3) -> 0 | BL137: 16 | BM137: -402583871
C138: 6 | D138: K | E138: 784452373 | F138: Maľby z maliarskych zmesí Primalex Polar, ručne nanášané dvojnásobné na hrubozrnný podklad výšky do 3,80 m | G138: m2 | H138: 750 | J138: =ROUND(I138*H138,3) -> 0 | N138: znížená | P138: =O138*H138 -> 0 | Q138: 0.0004 | R138: =Q138*H138 -> 0.3 | S138: 0 | T138: =S138*H138 -> 0 | AR138: 16 | AT138: K | AU138: 2 | AY138: ROZPOCET | BE138: =IF(N138="základná",J138,0) -> 0 | BF138: =IF(N138="znížená",J138,0) -> 0 | BG138: =IF(N138="zákl. prenesená",J138,0) -> 0 | BH138: =IF(N138="zníž. prenesená",J138,0) -> 0 | BI138: =IF(N138="nulová",J138,0) -> 0 | BJ138: 2 | BK138: =ROUND(I138*H138,3) -> 0 | BL138: 16 | BM138: 965288316
C139: 7 | D139: K | E139: 784492100.S | F139: Ostatné maliarske práce výšky do 5, 00 m linkovanie | G139: m | H139: 313.333 | J139: =ROUND(I139*H139,3) -> 0 | N139: znížená | P139: =O139*H139 -> 0 | Q139: 1e-05 | R139: =Q139*H139 -> 0.00313333 | S139: 0 | T139: =S139*H139 -> 0 | AR139: 16 | AT139: K | AU139: 2 | AY139: ROZPOCET | BE139: =IF(N139="základná",J139,0) -> 0 | BF139: =IF(N139="znížená",J139,0) -> 0 | BG139: =IF(N139="zákl. prenesená",J139,0) -> 0 | BH139: =IF(N139="zníž. prenesená",J139,0) -> 0 | BI139: =IF(N139="nulová",J139,0) -> 0 | BJ139: 2 | BK139: =ROUND(I139*H139,3) -> 0 | BL139: 16 | BM139: 1965838213
C140: 8 | D140: K | E140: 784498911.S | F140: Vyhladenie maliarskou sadrou jednonásobné v miestnosti alebo na schodisku do 3,80 m 30% vysprávky (praskliny, diery po klincoch...) | G140: m2 | H140: 75 | J140: =ROUND(I140*H140,3) -> 0 | N140: znížená | P140: =O140*H140 -> 0 | Q140: 0.0003 | R140: =Q140*H140 -> 0.0225 | S140: 0 | T140: =S140*H140 -> 0 | AR140: 16 | AT140: K | AU140: 2 | AY140: ROZPOCET | BE140: =IF(N140="základná",J140,0) -> 0 | BF140: =IF(N140="znížená",J140,0) -> 0 | BG140: =IF(N140="zákl. prenesená",J140,0) -> 0 | BH140: =IF(N140="zníž. prenesená",J140,0) -> 0 | BI140: =IF(N140="nulová",J140,0) -> 0 | BJ140: 2 | BK140: =ROUND(I140*H140,3) -> 0 | BL140: 16 | BM140: -30149715
