Workbook

Sheet Rekapitulácia stavby
A1: Export Komplet | BA1: 2.0 | BT1: False | BU1: False | BV1: {d2ba2c7e-fc49-418a-a4a6-38b57f8542d2}
AR2: >> skryté stĺpce << | BS2: 0,001 | BT2: 20
BS3: 0,001 | BT3: 20
D4: REKAPITULÁCIA STAVBY | AS4: v --- nižšie sa nachádzajú doplnkové a pomocné údaje k zostavám --- v | BE4: Návod na vyplnenie | BS4: 0,001
D5: Kód: | K5: 15664 | BE5: Meniť je možné iba bunky so žltým podfarbením!_x000D_ _x000D_ 1) na prvom liste Rekapitulácie stavby vyplňte v zostave_x000D_ _x000D_ a) Rekapitulácia stavby_x000D_ - údaje o Zhotoviteľovi_x000D_ (prenesú sa do ostatných zostáv aj v iných listoch)_x000D_ _x000D_ b) Rekapitulácia objektov stavby_x000D_ - potrebné Ostatné náklady_x000D_ _x000D_ 2) na vybraných listoch vyplňte v zostave_x000D_ _x000D_ a) Krycí list_x000D_ - údaje o Zhotoviteľovi, pokiaľ sa líšia od údajov o Zhotoviteľovi na Rekapitulácii stavby_x000D_ (údaje se prenesú do ostatných zostav v danom liste)_x000D_ _x000D_ b) Rekapitulácia rozpočtu_x000D_ - potrebné Ostatné náklady_x000D_ _x000D_ c) Celkové náklady za stavbu_x000D_ - ceny na položkách_x000D_ - množstvo, pokiaľ má žlté podfarbenie_x000D_ - a v prípade potreby poznámku (tá je v skrytom stĺpci) | BS5: 0,001
D6: Stavba: | K6: Oprava strechy na objekte vrátnice foliou Fatrafol | BS6: 0,001
D7: JKSO: | AK7: KS: | BS7: 0,001
D8: Miesto: | K8: Trebišov | AK8: Dátum: | AN8: 26. 10. 2021 | BS8: 0,001
BS9: 0,001
D10: Objednávateľ: | AK10: IČO: | BS10: 0,001
E11: LUMEN - ŠZ, SpS a DSS, Trebišov | AK11: IČ DPH: | BS11: 0,001
BS12: 0,001
D13: Zhotoviteľ: | AK13: IČO: | AN13: Vyplň údaj | BS13: 0,001
E14: Vyplň údaj | AK14: IČ DPH: | AN14: Vyplň údaj | BS14: 0,001
BS15: False
D16: Projektant: | AK16: IČO: | BS16: False
AK17: IČ DPH: | BS17: True
BS18: 0,01
D19: Spracovateľ: | AK19: IČO: | BS19: 0,01
AK20: IČ DPH: | BS20: True
D22: Poznámka:
D26: Cena bez DPH | AK26: =ROUND(AG94,2) -> 0
L28: Sadzba dane | W28: Základ dane | AK28: Výška dane
D29: DPH | F29: základná | L29: 0.2 | W29: =ROUND(AZ94, 2) -> 0 | AK29: =ROUND(AV94, 2) -> 0
F30: znížená | L30: 0.2 | W30: =ROUND(BA94, 2) -> 0 | AK30: =ROUND(AW94, 2) -> 0
F31: zákl. prenesená | L31: 0.2 | W31: =ROUND(BB94, 2) -> 0 | AK31: 0
F32: zníž. prenesená | L32: 0.2 | W32: =ROUND(BC94, 2) -> 0 | AK32: 0
F33: nulová | L33: 0 | W33: =ROUND(BD94, 2) -> 0 | AK33: 0
D35: Cena s DPH | T35: v | X35: EUR | AK35: =SUM(AK26:AK33) -> 0
D49: Projektant | AH49: Spracovateľ
D60: Dátum a podpis: | V60: Pečiatka | AH60: Dátum a podpis: | AM60: Pečiatka
D64: Objednávateľ | AH64: Zhotoviteľ
D75: Dátum a podpis: | V75: Pečiatka | AH75: Dátum a podpis: | AM75: Pečiatka
C82: REKAPITULÁCIA OBJEKTOV STAVBY
C84: Kód: | L84: =K5 -> 15664
C85: Stavba: | L85: =K6 -> Oprava strechy na objekte vrátnice foliou Fatrafol
C87: Miesto: | L87: =IF(K8="","",K8) -> Trebišov | AI87: Dátum: | AM87: =IF(AN8= "","",AN8) -> 26. 10. 2021
C89: Objednávateľ: | L89: =IF(E11= "","",E11) -> LUMEN - ŠZ, SpS a DSS, Trebišov | AI89: Projektant: | AM89: =IF(E17="","",E17) | AS89: Informatívne údaje z listov zákaziek
C90: Zhotoviteľ: | L90: =IF(E14= "Vyplň údaj","",E14) | AI90: Spracovateľ: | AM90: =IF(E20="","",E20)
C92: Kód | I92: Popis | AG92: Cena bez DPH [EUR] | AN92: Cena s DPH [EUR] | AQ92: Typ | AS92: z toho Ostat._x000D_ náklady [EUR] | AT92: DPH [EUR] | AU92: Normohodiny [h] | AV92: DPH základná [EUR] | AW92: DPH znížená [EUR] | AX92: DPH základná prenesená_x000D_ [EUR] | AY92: DPH znížená prenesená_x000D_ [EUR] | AZ92: Základňa_x000D_ DPH základná | BA92: Základňa_x000D_ DPH znížená | BB92: Základňa_x000D_ DPH zákl. prenesená | BC92: Základňa_x000D_ DPH zníž. prenesená | BD92: Základňa_x000D_ DPH nulová
C94: Náklady z rozpočtov | AG94: =ROUND(AG95,2) -> 0 | AN94: =SUM(AG94,AT94) -> 0 | AS94: =ROUND(AS95,2) -> 0 | AT94: =ROUND(SUM(AV94:AW94),2) -> 0 | AU94: =ROUND(AU95,5) -> 0 | AV94: =ROUND(AZ94*L29,2) -> 0 | AW94: =ROUND(BA94*L30,2) -> 0 | AX94: =ROUND(BB94*L29,2) -> 0 | AY94: =ROUND(BC94*L30,2) -> 0 | AZ94: =ROUND(AZ95,2) -> 0 | BA94: =ROUND(BA95,2) -> 0 | BB94: =ROUND(BB95,2) -> 0 | BC94: =ROUND(BC95,2) -> 0 | BD94: =ROUND(BD95,2) -> 0 | BS94: D | BT94: 0 | BV94: IMPORT | BW94: {d2ba2c7e-fc49-418a-a4a6-38b57f8542d2} | BX94: {00000000-0000-0000-0000-000000000000}
A95: / | D95: 15664 | J95: Oprava strechy na objekte vrátnice foliou Fatrafol | AG95: ='15664 - Oprava strechy na...'!J30 -> 0 | AN95: =SUM(AG95,AT95) -> 0 | AQ95: STA | AS95: 0 | AT95: =ROUND(SUM(AV95:AW95),2) -> 0 | AU95: ='15664 - Oprava strechy na...'!P130 -> 0 | AV95: ='15664 - Oprava strechy na...'!J33 -> 0 | AW95: ='15664 - Oprava strechy na...'!J34 -> 0 | AX95: ='15664 - Oprava strechy na...'!J35 -> 0 | AY95: ='15664 - Oprava strechy na...'!J36 -> 0 | AZ95: ='15664 - Oprava strechy na...'!F33 -> 0 | BA95: ='15664 - Oprava strechy na...'!F34 -> 0 | BB95: ='15664 - Oprava strechy na...'!F35 -> 0 | BC95: ='15664 - Oprava strechy na...'!F36 -> 0 | BD95: ='15664 - Oprava strechy na...'!F37 -> 0 | BT95: 1 | BU95: ###NOINSERT### | BV95: IMPORT | BW95: {d2ba2c7e-fc49-418a-a4a6-38b57f8542d2} | BX95: {00000000-0000-0000-0000-000000000000}

Sheet 15664 - Oprava strechy na...
L2: >> skryté stĺpce << | AT2: {d2ba2c7e-fc49-418a-a4a6-38b57f8542d2}
AT3: 0
D4: KRYCÍ LIST ROZPOČTU | M4: v --- nižšie sa nachádzajú doplnkové a pomocné údaje k zostavám --- v | AT4: False
D6: Stavba:
E7: Oprava strechy na objekte vrátnice
D9: JKSO: | I9: KS:
D10: Miesto: | F10: Trebišov | I10: Dátum: | J10: ='Rekapitulácia stavby'!AN8 -> 26. 10. 2021
D12: Objednávateľ: | I12: IČO:
E13: LUMEN - ŠZ, SpS a DSS, Trebišov | I13: IČ DPH:
D15: Zhotoviteľ: | I15: IČO: | J15: ='Rekapitulácia stavby'!AN13 -> Vyplň údaj
E16: ='Rekapitulácia stavby'!E14 -> Vyplň údaj | I16: IČ DPH: | J16: ='Rekapitulácia stavby'!AN14 -> Vyplň údaj
D18: Projektant: | I18: IČO: | J18: =IF('Rekapitulácia stavby'!AN16="","",'Rekapitulácia stavby'!AN16)
E19: =IF('Rekapitulácia stavby'!E17="","",'Rekapitulácia stavby'!E17) | I19: IČ DPH: | J19: =IF('Rekapitulácia stavby'!AN17="","",'Rekapitulácia stavby'!AN17)
D21: Spracovateľ: | I21: IČO: | J21: =IF('Rekapitulácia stavby'!AN19="","",'Rekapitulácia stavby'!AN19)
E22: =IF('Rekapitulácia stavby'!E20="","",'Rekapitulácia stavby'!E20) | I22: IČ DPH: | J22: =IF('Rekapitulácia stavby'!AN20="","",'Rekapitulácia stavby'!AN20)
D24: Poznámka:
D28: Náklady z rozpočtu | J28: =J94 -> 0
D29: Ostatné náklady | J29: =J105 -> 0
D30: Cena bez DPH | J30: =ROUND(J28 + J29, 2) -> 0
F32: Základ dane | I32: Sadzba dane | J32: Výška dane
D33: DPH | E33: základná | F33: =ROUND((SUM(BE105:BE112) + SUM(BE130:BE177)), 2) -> 0 | I33: 0.2 | J33: =ROUND(((SUM(BE105:BE112) + SUM(BE130:BE177))*I33), 2) -> 0
E34: znížená | F34: =ROUND((SUM(BF105:BF112) + SUM(BF130:BF177)), 2) -> 0 | I34: 0.2 | J34: =ROUND(((SUM(BF105:BF112) + SUM(BF130:BF177))*I34), 2) -> 0
E35: zákl. prenesená | F35: =ROUND((SUM(BG105:BG112) + SUM(BG130:BG177)), 2) -> 0 | I35: 0.2 | J35: =0 -> 0
E36: zníž. prenesená | F36: =ROUND((SUM(BH105:BH112) + SUM(BH130:BH177)), 2) -> 0 | I36: 0.2 | J36: =0 -> 0
E37: nulová | F37: =ROUND((SUM(BI105:BI112) + SUM(BI130:BI177)), 2) -> 0 | I37: 0 | J37: =0 -> 0
D39: Cena s DPH | G39: v | H39: EUR | J39: =SUM(J30:J37) -> 0
D50: Projektant | G50: Spracovateľ
D61: Dátum a podpis: | F61: Pečiatka | G61: Dátum a podpis: | J61: Pečiatka
D65: Objednávateľ | G65: Zhotoviteľ
D76: Dátum a podpis: | F76: Pečiatka | G76: Dátum a podpis: | J76: Pečiatka
C82: REKAPITULÁCIA ROZPOČTU
C84: Stavba:
E85: =E7 -> Oprava strechy na objekte vrátnice
C87: Miesto: | F87: =F10 -> Trebišov | I87: Dátum: | J87: =IF(J10="","",J10) -> 26. 10. 2021
C89: Objednávateľ: | F89: =E13 -> LUMEN - ŠZ, SpS a DSS, Trebišov | I89: Projektant: | J89: =E19
C90: Zhotoviteľ: | F90: =IF(E16="","",E16) -> Vyplň údaj | I90: Spracovateľ: | J90: =E22
C92: Kód dielu - Popis | J92: Cena celkom [EUR]
C94: 1) Náklady z rozpočtu | J94: =J130 -> 0 | AU94: -1
D95: HSV - Práce a dodávky HSV | J95: =J131 -> 0
D96: 6 - Úpravy povrchov, podlahy, osadenie | J96: =J132 -> 0
D97: 9 - Ostatné konštrukcie a práce-búranie | J97: =J134 -> 0
D98: PSV - Práce a dodávky PSV | J98: =J136 -> 0
D99: 712 - Izolácie striech, povlakové krytiny | J99: =J137 -> 0
D100: 764 - Konštrukcie klampiarske | J100: =J155 -> 0
D101: M - Práce a dodávky M | J101: =J169 -> 0
D102: 21-M - Elektromontáže | J102: =J170 -> 0
C105: 2) Ostatné náklady | J105: =ROUND(J106 + J107 + J108 + J109 + J110 + J111,2) -> 0 | N105: DPH
D106: Zariad. staveniska | J106: 0 | N106: znížená | AY106: VRN | BE106: =IF(N106="základná",J106,0) -> 0 | BF106: =IF(N106="znížená",J106,0) -> 0 | BG106: =IF(N106="zákl. prenesená",J106,0) -> 0 | BH106: =IF(N106="zníž. prenesená",J106,0) -> 0 | BI106: =IF(N106="nulová",J106,0) -> 0 | BJ106: 2
D107: Mimostav. doprava | J107: 0 | N107: znížená | AY107: VRN | BE107: =IF(N107="základná",J107,0) -> 0 | BF107: =IF(N107="znížená",J107,0) -> 0 | BG107: =IF(N107="zákl. prenesená",J107,0) -> 0 | BH107: =IF(N107="zníž. prenesená",J107,0) -> 0 | BI107: =IF(N107="nulová",J107,0) -> 0 | BJ107: 2
D108: Územné vplyvy | J108: 0 | N108: znížená | AY108: VRN | BE108: =IF(N108="základná",J108,0) -> 0 | BF108: =IF(N108="znížená",J108,0) -> 0 | BG108: =IF(N108="zákl. prenesená",J108,0) -> 0 | BH108: =IF(N108="zníž. prenesená",J108,0) -> 0 | BI108: =IF(N108="nulová",J108,0) -> 0 | BJ108: 2
D109: Prevádzkové vplyvy | J109: 0 | N109: znížená | AY109: VRN | BE109: =IF(N109="základná",J109,0) -> 0 | BF109: =IF(N109="znížená",J109,0) -> 0 | BG109: =IF(N109="zákl. prenesená",J109,0) -> 0 | BH109: =IF(N109="zníž. prenesená",J109,0) -> 0 | BI109: =IF(N109="nulová",J109,0) -> 0 | BJ109: 2
D110: Ostatné | J110: 0 | N110: znížená | AY110: VRN | BE110: =IF(N110="základná",J110,0) -> 0 | BF110: =IF(N110="znížená",J110,0) -> 0 | BG110: =IF(N110="zákl. prenesená",J110,0) -> 0 | BH110: =IF(N110="zníž. prenesená",J110,0) -> 0 | BI110: =IF(N110="nulová",J110,0) -> 0 | BJ110: 2
D111: Kompletačná činnosť | J111: =ROUND(J28*T111,2) -> 0 | N111: znížená | AY111: KOMPLETACNA | BE111: =IF(N111="základná",J111,0) -> 0 | BF111: =IF(N111="znížená",J111,0) -> 0 | BG111: =IF(N111="zákl. prenesená",J111,0) -> 0 | BH111: =IF(N111="zníž. prenesená",J111,0) -> 0 | BI111: =IF(N111="nulová",J111,0) -> 0 | BJ111: 2
C113: Celkové náklady za stavbu 1) + 2) | J113: =ROUND(J94+J105,2) -> 0
C119: ROZPOČET
C121: Stavba:
E122: =E7 -> Oprava strechy na objekte vrátnice
C124: Miesto: | F124: =F10 -> Trebišov | I124: Dátum: | J124: =IF(J10="","",J10) -> 26. 10. 2021
C126: Objednávateľ: | F126: =E13 -> LUMEN - ŠZ, SpS a DSS, Trebišov | I126: Projektant: | J126: =E19
C127: Zhotoviteľ: | F127: =IF(E16="","",E16) -> Vyplň údaj | I127: Spracovateľ: | J127: =E22
C129: PČ | D129: Typ | E129: Kód | F129: Popis | G129: MJ | H129: Množstvo | I129: J.cena [EUR] | J129: Cena celkom [EUR] | K129: Cenová sústava | N129: DPH | O129: J. Nh [h] | P129: Nh celkom [h] | Q129: J. hmotnosť [t] | R129: Hmotnosť celkom [t] | S129: J. suť [t] | T129: Suť Celkom [t]
C130: Náklady z rozpočtu | J130: =BK130 -> 0 | P130: =P131+P136+P169 -> 0 | R130: =R131+R136+R169 -> 2.1170298 | T130: =T131+T136+T169 -> 6.432757 | AT130: D | AU130: -1 | BK130: =BK131+BK136+BK169 -> 0
D131: D | E131: HSV | F131: Práce a dodávky HSV | J131: =BK131 -> 0 | P131: =P132+P134 -> 0 | R131: =R132+R134 -> 1.42536 | T131: =T132+T134 -> 5.4 | AR131: 1 | AT131: D | AU131: 0 | AY131: ROZPOCET | BK131: =BK132+BK134 -> 0
D132: D | E132: 6 | F132: Úpravy povrchov, podlahy, osadenie | J132: =BK132 -> 0 | P132: =P133 -> 0 | R132: =R133 -> 1.42536 | T132: =T133 -> 0 | AR132: 1 | AT132: D | AU132: 1 | AY132: ROZPOCET | BK132: =BK133 -> 0
C133: 1 | D133: K | E133: 632451431.S | F133: Doplnenie cementového poteru s plochou jednotlivo (s dodaním hmôt) do 4 m2 a hr. do 30 mm 40% | G133: m2 | H133: 24 | J133: =ROUND(I133*H133,3) -> 0 | N133: znížená | P133: =O133*H133 -> 0 | Q133: 0.05939 | R133: =Q133*H133 -> 1.42536 | S133: 0 | T133: =S133*H133 -> 0 | AR133: 4 | AT133: K | AU133: 2 | AY133: ROZPOCET | BE133: =IF(N133="základná",J133,0) -> 0 | BF133: =IF(N133="znížená",J133,0) -> 0 | BG133: =IF(N133="zákl. prenesená",J133,0) -> 0 | BH133: =IF(N133="zníž. prenesená",J133,0) -> 0 | BI133: =IF(N133="nulová",J133,0) -> 0 | BJ133: 2 | BK133: =ROUND(I133*H133,3) -> 0 | BL133: 4 | BM133: 1644995768
D134: D | E134: 9 | F134: Ostatné konštrukcie a práce-búranie | J134: =BK134 -> 0 | P134: =P135 -> 0 | R134: =R135 -> 0 | T134: =T135 -> 5.4 | AR134: 1 | AT134: D | AU134: 1 | AY134: ROZPOCET | BK134: =BK135 -> 0
C135: 2 | D135: K | E135: 965044121.S | F135: Búranie podkladov hr.do 40 mm, s rabicovým pletivom v strešných konštr., - 0,09000t | G135: m2 | H135: 60 | J135: =ROUND(I135*H135,3) -> 0 | N135: znížená | P135: =O135*H135 -> 0 | Q135: 0 | R135: =Q135*H135 -> 0 | S135: 0.09 | T135: =S135*H135 -> 5.4 | AR135: 4 | AT135: K | AU135: 2 | AY135: ROZPOCET | BE135: =IF(N135="základná",J135,0) -> 0 | BF135: =IF(N135="znížená",J135,0) -> 0 | BG135: =IF(N135="zákl. prenesená",J135,0) -> 0 | BH135: =IF(N135="zníž. prenesená",J135,0) -> 0 | BI135: =IF(N135="nulová",J135,0) -> 0 | BJ135: 2 | BK135: =ROUND(I135*H135,3) -> 0 | BL135: 4 | BM135: 878146224
D136: D | E136: PSV | F136: Práce a dodávky PSV | J136: =BK136 -> 0 | P136: =P137+P155 -> 0 | R136: =R137+R155 -> 0.66570176 | T136: =T137+T155 -> 0.991472 | AR136: 2 | AT136: D | AU136: 0 | AY136: ROZPOCET | BK136: =BK137+BK155 -> 0
D137: D | E137: 712 | F137: Izolácie striech, povlakové krytiny | J137: =BK137 -> 0 | P137: =SUM(P138:P154) -> 0 | R137: =SUM(R138:R154) -> 0.51350726 | T137: =SUM(T138:T154) -> 0.84 | AR137: 2 | AT137: D | AU137: 1 | AY137: ROZPOCET | BK137: =SUM(BK138:BK154) -> 0
C138: 3 | D138: K | E138: 712290010.S | F138: Zhotovenie parozábrany pre strechy ploché do 10° | G138: m2 | H138: 60 | J138: =ROUND(I138*H138,3) -> 0 | N138: znížená | P138: =O138*H138 -> 0 | Q138: 0 | R138: =Q138*H138 -> 0 | S138: 0 | T138: =S138*H138 -> 0 | AR138: 16 | AT138: K | AU138: 2 | AY138: ROZPOCET | BE138: =IF(N138="základná",J138,0) -> 0 | BF138: =IF(N138="znížená",J138,0) -> 0 | BG138: =IF(N138="zákl. prenesená",J138,0) -> 0 | BH138: =IF(N138="zníž. prenesená",J138,0) -> 0 | BI138: =IF(N138="nulová",J138,0) -> 0 | BJ138: 2 | BK138: =ROUND(I138*H138,3) -> 0 | BL138: 16 | BM138: -1492681409
C139: 4 | D139: M | E139: 283230007300.S | F139: Parozábrana hr. 0,15 mm, š. 2 m, materiál na báze PO - modifikovaný PE | G139: m2 | H139: 69 | J139: =ROUND(I139*H139,3) -> 0 | N139: znížená | P139: =O139*H139 -> 0 | Q139: 0.00019 | R139: =Q139*H139 -> 0.01311 | S139: 0 | T139: =S139*H139 -> 0 | AR139: 32 | AT139: M | AU139: 2 | AY139: ROZPOCET | BE139: =IF(N139="základná",J139,0) -> 0 | BF139: =IF(N139="znížená",J139,0) -> 0 | BG139: =IF(N139="zákl. prenesená",J139,0) -> 0 | BH139: =IF(N139="zníž. prenesená",J139,0) -> 0 | BI139: =IF(N139="nulová",J139,0) -> 0 | BJ139: 2 | BK139: =ROUND(I139*H139,3) -> 0 | BL139: 16 | BM139: 1166207257
C140: 5 | D140: K | E140: 712300833.S | F140: Odstránenie povlakovej krytiny na strechách plochých 10° trojvrstvovej, -0,01400t | G140: m2 | H140: 60 | J140: =ROUND(I140*H140,3) -> 0 | N140: znížená | P140: =O140*H140 -> 0 | Q140: 0 | R140: =Q140*H140 -> 0 | S140: 0.014 | T140: =S140*H140 -> 0.84 | AR140: 16 | AT140: K | AU140: 2 | AY140: ROZPOCET | BE140: =IF(N140="základná",J140,0) -> 0 | BF140: =IF(N140="znížená",J140,0) -> 0 | BG140: =IF(N140="zákl. prenesená",J140,0) -> 0 | BH140: =IF(N140="zníž. prenesená",J140,0) -> 0 | BI140: =IF(N140="nulová",J140,0) -> 0 | BJ140: 2 | BK140: =ROUND(I140*H140,3) -> 0 | BL140: 16 | BM140: -1522923546
C141: 6 | D141: K | E141: 712370070.S | F141: Zhotovenie povlakovej krytiny striech plochých do 10° PVC-P fóliou upevnenou prikotvením so zvarením spoju | G141: m2 | H141: 60 | J141: =ROUND(I141*H141,3) -> 0 | N141: znížená | P141: =O141*H141 -> 0 | Q141: 0 | R141: =Q141*H141 -> 0 | S141: 0 | T141: =S141*H141 -> 0 | AR141: 16 | AT141: K | AU141: 2 | AY141: ROZPOCET | BE141: =IF(N141="základná",J141,0) -> 0 | BF141: =IF(N141="znížená",J141,0) -> 0 | BG141: =IF(N141="zákl. prenesená",J141,0) -> 0 | BH141: =IF(N141="zníž. prenesená",J141,0) -> 0 | BI141: =IF(N141="nulová",J141,0) -> 0 | BJ141: 2 | BK141: =ROUND(I141*H141,3) -> 0 | BL141: 16 | BM141: -942548767
C142: 7 | D142: M | E142: 283220002000.S | F142: Hydroizolačná fólia PVC-P hr. 1,5 mm izolácia plochých striech | G142: m2 | H142: 69 | J142: =ROUND(I142*H142,3) -> 0 | N142: znížená | P142: =O142*H142 -> 0 | Q142: 0.0019 | R142: =Q142*H142 -> 0.1311 | S142: 0 | T142: =S142*H142 -> 0 | AR142: 32 | AT142: M | AU142: 2 | AY142: ROZPOCET | BE142: =IF(N142="základná",J142,0) -> 0 | BF142: =IF(N142="znížená",J142,0) -> 0 | BG142: =IF(N142="zákl. prenesená",J142,0) -> 0 | BH142: =IF(N142="zníž. prenesená",J142,0) -> 0 | BI142: =IF(N142="nulová",J142,0) -> 0 | BJ142: 2 | BK142: =ROUND(I142*H142,3) -> 0 | BL142: 16 | BM142: 920693202
C143: 8 | D143: M | E143: 311690001000.S | F143: Rozperný nit 6x30 mm do betónu, hliníkový | G143: ks | H143: 188.4 | J143: =ROUND(I143*H143,3) -> 0 | N143: znížená | P143: =O143*H143 -> 0 | Q143: 0.00035 | R143: =Q143*H143 -> 0.06594 | S143: 0 | T143: =S143*H143 -> 0 | AR143: 32 | AT143: M | AU143: 2 | AY143: ROZPOCET | BE143: =IF(N143="základná",J143,0) -> 0 | BF143: =IF(N143="znížená",J143,0) -> 0 | BG143: =IF(N143="zákl. prenesená",J143,0) -> 0 | BH143: =IF(N143="zníž. prenesená",J143,0) -> 0 | BI143: =IF(N143="nulová",J143,0) -> 0 | BJ143: 2 | BK143: =ROUND(I143*H143,3) -> 0 | BL143: 16 | BM143: -1097618634
C144: 9 | D144: K | E144: 712973410.S | F144: Detaily k termoplastom všeobecne, kútový uholník z hrubopoplastovaného plechu RŠ 80 mm, ohyb 90-135° | G144: m | H144: 22.15 | J144: =ROUND(I144*H144,3) -> 0 | N144: znížená | P144: =O144*H144 -> 0 | Q144: 3e-05 | R144: =Q144*H144 -> 0.0006645 | S144: 0 | T144: =S144*H144 -> 0 | AR144: 16 | AT144: K | AU144: 2 | AY144: ROZPOCET | BE144: =IF(N144="základná",J144,0) -> 0 | BF144: =IF(N144="znížená",J144,0) -> 0 | BG144: =IF(N144="zákl. prenesená",J144,0) -> 0 | BH144: =IF(N144="zníž. prenesená",J144,0) -> 0 | BI144: =IF(N144="nulová",J144,0) -> 0 | BJ144: 2 | BK144: =ROUND(I144*H144,3) -> 0 | BL144: 16 | BM144: 99926948
C145: 10 | D145: M | E145: 311690001000.S | F145: Rozperný nit 6x30 mm do betónu, hliníkový | G145: ks | H145: 177.2 | J145: =ROUND(I145*H145,3) -> 0 | N145: znížená | P145: =O145*H145 -> 0 | Q145: 0.00035 | R145: =Q145*H145 -> 0.06202 | S145: 0 | T145: =S145*H145 -> 0 | AR145: 32 | AT145: M | AU145: 2 | AY145: ROZPOCET | BE145: =IF(N145="základná",J145,0) -> 0 | BF145: =IF(N145="znížená",J145,0) -> 0 | BG145: =IF(N145="zákl. prenesená",J145,0) -> 0 | BH145: =IF(N145="zníž. prenesená",J145,0) -> 0 | BI145: =IF(N145="nulová",J145,0) -> 0 | BJ145: 2 | BK145: =ROUND(I145*H145,3) -> 0 | BL145: 16 | BM145: -2142396739
C146: 11 | D146: K | E146: 712973875.S | F146: Detaily k termoplastom všeobecne, oplechovanie okraja odkvapovou lištou z hrubopolpast. plechu RŠ 140 mm | G146: m | H146: 12.35 | J146: =ROUND(I146*H146,3) -> 0 | N146: znížená | P146: =O146*H146 -> 0 | Q146: 0.00023 | R146: =Q146*H146 -> 0.0028405 | S146: 0 | T146: =S146*H146 -> 0 | AR146: 16 | AT146: K | AU146: 2 | AY146: ROZPOCET | BE146: =IF(N146="základná",J146,0) -> 0 | BF146: =IF(N146="znížená",J146,0) -> 0 | BG146: =IF(N146="zákl. prenesená",J146,0) -> 0 | BH146: =IF(N146="zníž. prenesená",J146,0) -> 0 | BI146: =IF(N146="nulová",J146,0) -> 0 | BJ146: 2 | BK146: =ROUND(I146*H146,3) -> 0 | BL146: 16 | BM146: 1730855146
C147: 12 | D147: M | E147: 311690001000.S | F147: Rozperný nit 6x30 mm do betónu, hliníkový | G147: ks | H147: 98.8 | J147: =ROUND(I147*H147,3) -> 0 | N147: znížená | P147: =O147*H147 -> 0 | Q147: 0.00035 | R147: =Q147*H147 -> 0.03458 | S147: 0 | T147: =S147*H147 -> 0 | AR147: 32 | AT147: M | AU147: 2 | AY147: ROZPOCET | BE147: =IF(N147="základná",J147,0) -> 0 | BF147: =IF(N147="znížená",J147,0) -> 0 | BG147: =IF(N147="zákl. prenesená",J147,0) -> 0 | BH147: =IF(N147="zníž. prenesená",J147,0) -> 0 | BI147: =IF(N147="nulová",J147,0) -> 0 | BJ147: 2 | BK147: =ROUND(I147*H147,3) -> 0 | BL147: 16 | BM147: -1690452546
C148: 13 | D148: K | E148: 712990200.S | F148: Montáž strešného držiaka bleskozvodu, vrátane zaizolovania | G148: ks | H148: 42 | J148: =ROUND(I148*H148,3) -> 0 | N148: znížená | P148: =O148*H148 -> 0 | Q148: 0 | R148: =Q148*H148 -> 0 | S148: 0 | T148: =S148*H148 -> 0 | AR148: 16 | AT148: K | AU148: 2 | AY148: ROZPOCET | BE148: =IF(N148="základná",J148,0) -> 0 | BF148: =IF(N148="znížená",J148,0) -> 0 | BG148: =IF(N148="zákl. prenesená",J148,0) -> 0 | BH148: =IF(N148="zníž. prenesená",J148,0) -> 0 | BI148: =IF(N148="nulová",J148,0) -> 0 | BJ148: 2 | BK148: =ROUND(I148*H148,3) -> 0 | BL148: 16 | BM148: 1447437043
C149: 14 | D149: M | E149: 283220001300.S | F149: Hydroizolačná fólia PVC-P, hr. 2 mm izolácia balkónov, strešných detailov | G149: m2 | H149: 7.56 | J149: =ROUND(I149*H149,3) -> 0 | N149: znížená | P149: =O149*H149 -> 0 | Q149: 0.00254 | R149: =Q149*H149 -> 0.0192024 | S149: 0 | T149: =S149*H149 -> 0 | AR149: 32 | AT149: M | AU149: 2 | AY149: ROZPOCET | BE149: =IF(N149="základná",J149,0) -> 0 | BF149: =IF(N149="znížená",J149,0) -> 0 | BG149: =IF(N149="zákl. prenesená",J149,0) -> 0 | BH149: =IF(N149="zníž. prenesená",J149,0) -> 0 | BI149: =IF(N149="nulová",J149,0) -> 0 | BJ149: 2 | BK149: =ROUND(I149*H149,3) -> 0 | BL149: 16 | BM149: 986975200
... C154: 19 | D154: K | E154: 998712101.S | F154: Presun hmôt pre izoláciu povlakovej krytiny v objektoch výšky do 6 m | G154: t | H154: 0.514 | J154: =ROUND(I154*H154,3) -> 0 | N154: znížená | P154: =O154*H154 -> 0 | Q154: 0 | R154: =Q154*H154 -> 0 | S154: 0 | T154: =S154*H154 -> 0 | AR154: 16 | AT154: K | AU154: 2 | AY154: ROZPOCET | BE154: =IF(N154="základná",J154,0) -> 0 | BF154: =IF(N154="znížená",J154,0) -> 0 | BG154: =IF(N154="zákl. prenesená",J154,0) -> 0 | BH154: =IF(N154="zníž. prenesená",J154,0) -> 0 | BI154: =IF(N154="nulová",J154,0) -> 0 | BJ154: 2 | BK154: =ROUND(I154*H154,3) -> 0 | BL154: 16 | BM154: 1080381328
D155: D | E155: 764 | F155: Konštrukcie klampiarske | J155: =BK155 -> 0 | P155: =SUM(P156:P168) -> 0 | R155: =SUM(R156:R168) -> 0.1521945 | T155: =SUM(T156:T168) -> 0.151472 | AR155: 2 | AT155: D | AU155: 1 | AY155: ROZPOCET | BK155: =SUM(BK156:BK168) -> 0
C156: 20 | D156: K | E156: 764323420.S | F156: Oplechovanie z pozinkovaného farbeného PZf plechu, odkvapov na strechách s lepenkovou krytinou r.š. 250 mm | G156: m | H156: 12.55 | J156: =ROUND(I156*H156,3) -> 0 | N156: znížená | P156: =O156*H156 -> 0 | Q156: 0.00209 | R156: =Q156*H156 -> 0.0262295 | S156: 0 | T156: =S156*H156 -> 0 | AR156: 16 | AT156: K | AU156: 2 | AY156: ROZPOCET | BE156: =IF(N156="základná",J156,0) -> 0 | BF156: =IF(N156="znížená",J156,0) -> 0 | BG156: =IF(N156="zákl. prenesená",J156,0) -> 0 | BH156: =IF(N156="zníž. prenesená",J156,0) -> 0 | BI156: =IF(N156="nulová",J156,0) -> 0 | BJ156: 2 | BK156: =ROUND(I156*H156,3) -> 0 | BL156: 16 | BM156: -876821262
C157: 21 | D157: K | E157: 764323820.S | F157: Demontáž odkvapov na strechách s lepenkovou krytinou rš 250 mm, -0,00260t | G157: m | H157: 12.55 | J157: =ROUND(I157*H157,3) -> 0 | N157: znížená | P157: =O157*H157 -> 0 | Q157: 0 | R157: =Q157*H157 -> 0 | S157: 0.0026 | T157: =S157*H157 -> 0.03263 | AR157: 16 | AT157: K | AU157: 2 | AY157: ROZPOCET | BE157: =IF(N157="základná",J157,0) -> 0 | BF157: =IF(N157="znížená",J157,0) -> 0 | BG157: =IF(N157="zákl. prenesená",J157,0) -> 0 | BH157: =IF(N157="zníž. prenesená",J157,0) -> 0 | BI157: =IF(N157="nulová",J157,0) -> 0 | BJ157: 2 | BK157: =ROUND(I157*H157,3) -> 0 | BL157: 16 | BM157: 1877595451
C158: 22 | D158: K | E158: 764333450.S | F158: Lemovanie z pozinkovaného farbeného PZf plechu, múrov na plochých strechách r.š. 500 mm | G158: m | H158: 22.15 | J158: =ROUND(I158*H158,3) -> 0 | N158: znížená | P158: =O158*H158 -> 0 | Q158: 0.00422 | R158: =Q158*H158 -> 0.093473 | S158: 0 | T158: =S158*H158 -> 0 | AR158: 16 | AT158: K | AU158: 2 | AY158: ROZPOCET | BE158: =IF(N158="základná",J158,0) -> 0 | BF158: =IF(N158="znížená",J158,0) -> 0 | BG158: =IF(N158="zákl. prenesená",J158,0) -> 0 | BH158: =IF(N158="zníž. prenesená",J158,0) -> 0 | BI158: =IF(N158="nulová",J158,0) -> 0 | BJ158: 2 | BK158: =ROUND(I158*H158,3) -> 0 | BL158: 16 | BM158: 1677226467
C159: 23 | D159: K | E159: 764334850.S | F159: Demontáž lemovania múrov na plochých strechách vrátane krycieho plechu nadmúroviek rš 500 mm, -0,00320t | G159: m | H159: 22.15 | J159: =ROUND(I159*H159,3) -> 0 | N159: znížená | P159: =O159*H159 -> 0 | Q159: 0 | R159: =Q159*H159 -> 0 | S159: 0.0032 | T159: =S159*H159 -> 0.07088 | AR159: 16 | AT159: K | AU159: 2 | AY159: ROZPOCET | BE159: =IF(N159="základná",J159,0) -> 0 | BF159: =IF(N159="znížená",J159,0) -> 0 | BG159: =IF(N159="zákl. prenesená",J159,0) -> 0 | BH159: =IF(N159="zníž. prenesená",J159,0) -> 0 | BI159: =IF(N159="nulová",J159,0) -> 0 | BJ159: 2 | BK159: =ROUND(I159*H159,3) -> 0 | BL159: 16 | BM159: -139436871
C160: 24 | D160: K | E160: 764352423.S | F160: Žľaby z pozinkovaného farbeného PZf plechu, pododkvapové polkruhové r.š. 250 mm | G160: m | H160: 12.55 | J160: =ROUND(I160*H160,3) -> 0 | N160: znížená | P160: =O160*H160 -> 0 | Q160: 0.00166 | R160: =Q160*H160 -> 0.020833 | S160: 0 | T160: =S160*H160 -> 0 | AR160: 16 | AT160: K | AU160: 2 | AY160: ROZPOCET | BE160: =IF(N160="základná",J160,0) -> 0 | BF160: =IF(N160="znížená",J160,0) -> 0 | BG160: =IF(N160="zákl. prenesená",J160,0) -> 0 | BH160: =IF(N160="zníž. prenesená",J160,0) -> 0 | BI160: =IF(N160="nulová",J160,0) -> 0 | BJ160: 2 | BK160: =ROUND(I160*H160,3) -> 0 | BL160: 16 | BM160: 24683516
C161: 25 | D161: K | E161: 764352800.S | F161: Demontáž žľabov pododkvapových polkruhových so sklonom do 30st. rš 250 mm, -0,00280t | G161: m | H161: 12.55 | J161: =ROUND(I161*H161,3) -> 0 | N161: znížená | P161: =O161*H161 -> 0 | Q161: 0 | R161: =Q161*H161 -> 0 | S161: 0.0028 | T161: =S161*H161 -> 0.03514 | AR161: 16 | AT161: K | AU161: 2 | AY161: ROZPOCET | BE161: =IF(N161="základná",J161,0) -> 0 | BF161: =IF(N161="znížená",J161,0) -> 0 | BG161: =IF(N161="zákl. prenesená",J161,0) -> 0 | BH161: =IF(N161="zníž. prenesená",J161,0) -> 0 | BI161: =IF(N161="nulová",J161,0) -> 0 | BJ161: 2 | BK161: =ROUND(I161*H161,3) -> 0 | BL161: 16 | BM161: 1596266795
C162: 26 | D162: K | E162: 764359411.S | F162: Kotlík kónický z pozinkovaného farbeného PZf plechu, pre rúry s priemerom do 100 mm | G162: ks | H162: 1 | J162: =ROUND(I162*H162,3) -> 0 | N162: znížená | P162: =O162*H162 -> 0 | Q162: 0.00158 | R162: =Q162*H162 -> 0.00158 | S162: 0 | T162: =S162*H162 -> 0 | AR162: 16 | AT162: K | AU162: 2 | AY162: ROZPOCET | BE162: =IF(N162="základná",J162,0) -> 0 | BF162: =IF(N162="znížená",J162,0) -> 0 | BG162: =IF(N162="zákl. prenesená",J162,0) -> 0 | BH162: =IF(N162="zníž. prenesená",J162,0) -> 0 | BI162: =IF(N162="nulová",J162,0) -> 0 | BJ162: 2 | BK162: =ROUND(I162*H162,3) -> 0 | BL162: 16 | BM162: -482976453
C163: 27 | D163: K | E163: 764359810.S | F163: Demontáž kotlíka kónického, so sklonom žľabu do 30st., -0,00110t | G163: ks | H163: 1 | J163: =ROUND(I163*H163,3) -> 0 | N163: znížená | P163: =O163*H163 -> 0 | Q163: 0 | R163: =Q163*H163 -> 0 | S163: 0.0011 | T163: =S163*H163 -> 0.0011 | AR163: 16 | AT163: K | AU163: 2 | AY163: ROZPOCET | BE163: =IF(N163="základná",J163,0) -> 0 | BF163: =IF(N163="znížená",J163,0) -> 0 | BG163: =IF(N163="zákl. prenesená",J163,0) -> 0 | BH163: =IF(N163="zníž. prenesená",J163,0) -> 0 | BI163: =IF(N163="nulová",J163,0) -> 0 | BJ163: 2 | BK163: =ROUND(I163*H163,3) -> 0 | BL163: 16 | BM163: -1198967763
C164: 28 | D164: K | E164: 764453872.S | F164: Demontáž odpadového odskoku, so stranou, alebo priemerom 75 mm 100 mm, -0,00110t | G164: ks | H164: 1 | J164: =ROUND(I164*H164,3) -> 0 | N164: znížená | P164: =O164*H164 -> 0 | Q164: 0 | R164: =Q164*H164 -> 0 | S164: 0.0011 | T164: =S164*H164 -> 0.0011 | AR164: 16 | AT164: K | AU164: 2 | AY164: ROZPOCET | BE164: =IF(N164="základná",J164,0) -> 0 | BF164: =IF(N164="znížená",J164,0) -> 0 | BG164: =IF(N164="zákl. prenesená",J164,0) -> 0 | BH164: =IF(N164="zníž. prenesená",J164,0) -> 0 | BI164: =IF(N164="nulová",J164,0) -> 0 | BJ164: 2 | BK164: =ROUND(I164*H164,3) -> 0 | BL164: 16 | BM164: 814099641
C165: 29 | D165: K | E165: 764454435.S | F165: Montáž kruhvého odskoku z pozinkovaného farbeného PZf plechu, pre zvodové rúry s priemerom 80 - 120 mm | G165: ks | H165: 1 | J165: =ROUND(I165*H165,3) -> 0 | N165: znížená | P165: =O165*H165 -> 0 | Q165: 0.0001 | R165: =Q165*H165 -> 0.0001 | S165: 0 | T165: =S165*H165 -> 0 | AR165: 16 | AT165: K | AU165: 2 | AY165: ROZPOCET | BE165: =IF(N165="základná",J165,0) -> 0 | BF165: =IF(N165="znížená",J165,0) -> 0 | BG165: =IF(N165="zákl. prenesená",J165,0) -> 0 | BH165: =IF(N165="zníž. prenesená",J165,0) -> 0 | BI165: =IF(N165="nulová",J165,0) -> 0 | BJ165: 2 | BK165: =ROUND(I165*H165,3) -> 0 | BL165: 16 | BM165: -1355157197
C166: 30 | D166: M | E166: 553440008600.S | F166: Koleno lisované odskokové pozink farebný, priemer 100 mm | G166: ks | H166: 1 | J166: =ROUND(I166*H166,3) -> 0 | N166: znížená | P166: =O166*H166 -> 0 | Q166: 0.00025 | R166: =Q166*H166 -> 0.00025 | S166: 0 | T166: =S166*H166 -> 0 | AR166: 32 | AT166: M | AU166: 2 | AY166: ROZPOCET | BE166: =IF(N166="základná",J166,0) -> 0 | BF166: =IF(N166="znížená",J166,0) -> 0 | BG166: =IF(N166="zákl. prenesená",J166,0) -> 0 | BH166: =IF(N166="zníž. prenesená",J166,0) -> 0 | BI166: =IF(N166="nulová",J166,0) -> 0 | BJ166: 2 | BK166: =ROUND(I166*H166,3) -> 0 | BL166: 16 | BM166: -1690220419
C167: 31 | D167: K | E167: 764454453.S | F167: Zvodové rúry z pozinkovaného farbeného PZf plechu, kruhové priemer 100 mm | G167: m | H167: 4.7 | J167: =ROUND(I167*H167,3) -> 0 | N167: znížená | P167: =O167*H167 -> 0 | Q167: 0.00207 | R167: =Q167*H167 -> 0.009729 | S167: 0 | T167: =S167*H167 -> 0 | AR167: 16 | AT167: K | AU167: 2 | AY167: ROZPOCET | BE167: =IF(N167="základná",J167,0) -> 0 | BF167: =IF(N167="znížená",J167,0) -> 0 | BG167: =IF(N167="zákl. prenesená",J167,0) -> 0 | BH167: =IF(N167="zníž. prenesená",J167,0) -> 0 | BI167: =IF(N167="nulová",J167,0) -> 0 | BJ167: 2 | BK167: =ROUND(I167*H167,3) -> 0 | BL167: 16 | BM167: 2055834498
C168: 32 | D168: K | E168: 764454801.S | F168: Demontáž odpadových rúr kruhových, s priemerom 75 a 100 mm, -0,00226t | G168: m | H168: 4.7 | J168: =ROUND(I168*H168,3) -> 0 | N168: znížená | P168: =O168*H168 -> 0 | Q168: 0 | R168: =Q168*H168 -> 0 | S168: 0.00226 | T168: =S168*H168 -> 0.010622 | AR168: 16 | AT168: K | AU168: 2 | AY168: ROZPOCET | BE168: =IF(N168="základná",J168,0) -> 0 | BF168: =IF(N168="znížená",J168,0) -> 0 | BG168: =IF(N168="zákl. prenesená",J168,0) -> 0 | BH168: =IF(N168="zníž. prenesená",J168,0) -> 0 | BI168: =IF(N168="nulová",J168,0) -> 0 | BJ168: 2 | BK168: =ROUND(I168*H168,3) -> 0 | BL168: 16 | BM168: 1418071886
D169: D | E169: M | F169: Práce a dodávky M | J169: =BK169 -> 0 | P169: =P170 -> 0 | R169: =R170 -> 0.025968 | T169: =T170 -> 0.041285 | AR169: 3 | AT169: D | AU169: 0 | AY169: ROZPOCET | BK169: =BK170 -> 0
D170: D | E170: 21-M | F170: Elektromontáže | J170: =BK170 -> 0 | P170: =SUM(P171:P177) -> 0 | R170: =SUM(R171:R177) -> 0.025968 | T170: =SUM(T171:T177) -> 0.041285 | AR170: 3 | AT170: D | AU170: 1 | AY170: ROZPOCET | BK170: =SUM(BK171:BK177) -> 0
C171: 33 | D171: K | E171: 210220021.S | F171: Uzemňovacie vedenie v zemi FeZn vrátane izolácie spojov O 10 mm | G171: m | H171: 39.5 | J171: =ROUND(I171*H171,3) -> 0 | N171: znížená | P171: =O171*H171 -> 0 | Q171: 0 | R171: =Q171*H171 -> 0 | S171: 0 | T171: =S171*H171 -> 0 | AR171: 64 | AT171: K | AU171: 2 | AY171: ROZPOCET | BE171: =IF(N171="základná",J171,0) -> 0 | BF171: =IF(N171="znížená",J171,0) -> 0 | BG171: =IF(N171="zákl. prenesená",J171,0) -> 0 | BH171: =IF(N171="zníž. prenesená",J171,0) -> 0 | BI171: =IF(N171="nulová",J171,0) -> 0 | BJ171: 2 | BK171: =ROUND(I171*H171,3) -> 0 | BL171: 64 | BM171: -1313604563
C172: 34 | D172: M | E172: 354410054800.S | F172: Drôt bleskozvodový FeZn, d 10 mm | G172: kg | H172: 24.688 | J172: =ROUND(I172*H172,3) -> 0 | N172: znížená | P172: =O172*H172 -> 0 | Q172: 0.001 | R172: =Q172*H172 -> 0.024688 | S172: 0 | T172: =S172*H172 -> 0 | AR172: 128 | AT172: M | AU172: 2 | AY172: ROZPOCET | BE172: =IF(N172="základná",J172,0) -> 0 | BF172: =IF(N172="znížená",J172,0) -> 0 | BG172: =IF(N172="zákl. prenesená",J172,0) -> 0 | BH172: =IF(N172="zníž. prenesená",J172,0) -> 0 | BI172: =IF(N172="nulová",J172,0) -> 0 | BJ172: 2 | BK172: =ROUND(I172*H172,3) -> 0 | BL172: 128 | BM172: -1548196061
...
