Workbook

Sheet Rekapitulácia stavby
A1: Export Komplet | BA1: 2.0 | BT1: False | BU1: False | BV1: {3b5f1ac7-a0d2-4832-91a6-93c8b28ac1f8}
AR2: >> skryté stĺpce << | BS2: 0,001 | BT2: 20
BS3: 0,001 | BT3: 20
D4: REKAPITULÁCIA STAVBY | AS4: v --- nižšie sa nachádzajú doplnkové a pomocné údaje k zostavám --- v | BS4: 0,001
D5: Kód: | K5: 14195-1 | BS5: 0,001
D6: Stavba: | K6: Rekonštrukcia vonkajšieho areálu pre voľnočasové aktivity klientov | BS6: 0,001
D7: JKSO: | AK7: KS: | BS7: 0,001
D8: Miesto: | K8: Trebišov | AK8: Dátum: | AN8: 30. 4. 2020 | BS8: 0,001
BS9: 0,001
D10: Objednávateľ: | AK10: IČO: | BS10: 0,001
E11: LUMEN - ŠZ, ZpS a DSS. | AK11: IČ DPH: | BS11: 0,001
BS12: 0,001
D13: Zhotoviteľ: | AK13: IČO: | BS13: 0,001
AK14: IČ DPH: | BS14: 0,001
BS15: False
D16: Projektant: | AK16: IČO: | BS16: False
AK17: IČ DPH: | BS17: True
BS18: 0,01
D19: Spracovateľ: | AK19: IČO: | BS19: 0,01
AK20: IČ DPH: | BS20: True
D22: Poznámka:
D26: Cena bez DPH | AK26: =ROUND(AG94,2) -> 0
L28: Sadzba dane | W28: Základ dane | AK28: Výška dane
D29: DPH | F29: základná | L29: 0.2 | W29: =ROUND(AZ94, 2) -> 0 | AK29: =ROUND(AV94, 2) -> 0
F30: znížená | L30: 0.2 | W30: =ROUND(BA94, 2) -> 0 | AK30: =ROUND(AW94, 2) -> 0
F31: zákl. prenesená | L31: 0.2 | W31: =ROUND(BB94, 2) -> 0 | AK31: 0
F32: zníž. prenesená | L32: 0.2 | W32: =ROUND(BC94, 2) -> 0 | AK32: 0
F33: nulová | L33: 0 | W33: =ROUND(BD94, 2) -> 0 | AK33: 0
D35: Cena s DPH | T35: v | X35: EUR | AK35: =SUM(AK26:AK33) -> 0
D49: Projektant | AH49: Spracovateľ
D60: Dátum a podpis: | V60: Pečiatka | AH60: Dátum a podpis: | AM60: Pečiatka
D64: Objednávateľ | AH64: Zhotoviteľ
D75: Dátum a podpis: | V75: Pečiatka | AH75: Dátum a podpis: | AM75: Pečiatka
C82: REKAPITULÁCIA OBJEKTOV STAVBY
C84: Kód: | L84: =K5 -> 14195-1
C85: Stavba: | L85: =K6 -> Rekonštrukcia vonkajšieho areálu pre voľnočasové aktivity klientov
C87: Miesto: | L87: =IF(K8="","",K8) -> Trebišov | AI87: Dátum: | AM87: =IF(AN8= "","",AN8) -> 30. 4. 2020
C89: Objednávateľ: | L89: =IF(E11= "","",E11) -> LUMEN - ŠZ, ZpS a DSS. | AI89: Projektant: | AM89: =IF(E17="","",E17) | AS89: Informatívne údaje z listov zákaziek
C90: Zhotoviteľ: | L90: =IF(E14="","",E14) | AI90: Spracovateľ: | AM90: =IF(E20="","",E20)
C92: Kód | I92: Popis | AG92: Cena bez DPH [EUR] | AN92: Cena s DPH [EUR] | AQ92: Typ | AS92: z toho Ostat._x000D_ náklady [EUR] | AT92: DPH [EUR] | AU92: Normohodiny [h] | AV92: DPH základná [EUR] | AW92: DPH znížená [EUR] | AX92: DPH základná prenesená_x000D_ [EUR] | AY92: DPH znížená prenesená_x000D_ [EUR] | AZ92: Základňa_x000D_ DPH základná | BA92: Základňa_x000D_ DPH znížená | BB92: Základňa_x000D_ DPH zákl. prenesená | BC92: Základňa_x000D_ DPH zníž. prenesená | BD92: Základňa_x000D_ DPH nulová
C94: Náklady z rozpočtov | AG94: =ROUND(AG95,2) -> 0 | AN94: =SUM(AG94,AT94) -> 0 | AS94: =ROUND(AS95,2) -> 0 | AT94: =ROUND(SUM(AV94:AW94),2) -> 0 | AU94: =ROUND(AU95,5) -> 561.7402 | AV94: =ROUND(AZ94*L29,2) -> 0 | AW94: =ROUND(BA94*L30,2) -> 0 | AX94: =ROUND(BB94*L29,2) -> 0 | AY94: =ROUND(BC94*L30,2) -> 0 | AZ94: =ROUND(AZ95,2) -> 0 | BA94: =ROUND(BA95,2) -> 0 | BB94: =ROUND(BB95,2) -> 0 | BC94: =ROUND(BC95,2) -> 0 | BD94: =ROUND(BD95,2) -> 0 | BS94: D | BT94: 0 | BV94: IMPORT | BW94: {3b5f1ac7-a0d2-4832-91a6-93c8b28ac1f8} | BX94: {00000000-0000-0000-0000-000000000000}
A95: / | D95: 14195-1 | J95: Rekonštrukcia vonkajšieho areálu pre voľnočasové aktivity klientov | AG95: ='14195-1 - Rekonštrukcia v...'!J30 -> 0 | AN95: =SUM(AG95,AT95) -> 0 | AQ95: STA | AS95: 0 | AT95: =ROUND(SUM(AV95:AW95),2) -> 0 | AU95: ='14195-1 - Rekonštrukcia v...'!P130 -> 561.7402 | AV95: ='14195-1 - Rekonštrukcia v...'!J33 -> 0 | AW95: ='14195-1 - Rekonštrukcia v...'!J34 -> 0 | AX95: ='14195-1 - Rekonštrukcia v...'!J35 -> 0 | AY95: ='14195-1 - Rekonštrukcia v...'!J36 -> 0 | AZ95: ='14195-1 - Rekonštrukcia v...'!F33 -> 0 | BA95: ='14195-1 - Rekonštrukcia v...'!F34 -> 0 | BB95: ='14195-1 - Rekonštrukcia v...'!F35 -> 0 | BC95: ='14195-1 - Rekonštrukcia v...'!F36 -> 0 | BD95: ='14195-1 - Rekonštrukcia v...'!F37 -> 0 | BT95: 1 | BU95: ###NOINSERT### | BV95: IMPORT | BW95: {3b5f1ac7-a0d2-4832-91a6-93c8b28ac1f8} | BX95: {00000000-0000-0000-0000-000000000000}

Sheet 14195-1 - Rekonštrukcia v...
L2: >> skryté stĺpce << | AT2: {3b5f1ac7-a0d2-4832-91a6-93c8b28ac1f8}
AT3: 0
D4: KRYCÍ LIST ROZPOČTU | M4: v --- nižšie sa nachádzajú doplnkové a pomocné údaje k zostavám --- v | AT4: False
D6: Stavba:
E7: Rekonštrukcia vonkajšieho areálu pre voľnočasové aktivity klientov
D9: JKSO: | I9: KS:
D10: Miesto: | F10: Trebišov | I10: Dátum: | J10: ='Rekapitulácia stavby'!AN8 -> 30. 4. 2020
D12: Objednávateľ: | I12: IČO:
E13: LUMEN - ŠZ, ZpS a DSS. | I13: IČ DPH:
D15: Zhotoviteľ: | I15: IČO: | J15: ='Rekapitulácia stavby'!AN13
E16: ='Rekapitulácia stavby'!E14 | I16: IČ DPH: | J16: ='Rekapitulácia stavby'!AN14
D18: Projektant: | I18: IČO: | J18: =IF('Rekapitulácia stavby'!AN16="","",'Rekapitulácia stavby'!AN16)
E19: =IF('Rekapitulácia stavby'!E17="","",'Rekapitulácia stavby'!E17) | I19: IČ DPH: | J19: =IF('Rekapitulácia stavby'!AN17="","",'Rekapitulácia stavby'!AN17)
D21: Spracovateľ: | I21: IČO: | J21: =IF('Rekapitulácia stavby'!AN19="","",'Rekapitulácia stavby'!AN19)
E22: =IF('Rekapitulácia stavby'!E20="","",'Rekapitulácia stavby'!E20) | I22: IČ DPH: | J22: =IF('Rekapitulácia stavby'!AN20="","",'Rekapitulácia stavby'!AN20)
D24: Poznámka:
D28: Náklady z rozpočtu | J28: =J94 -> 0
D29: Ostatné náklady | J29: =J111 -> 0
D30: Cena bez DPH | J30: =ROUND(J28 + J29, 2) -> 0
F32: Základ dane | I32: Sadzba dane | J32: Výška dane
D33: DPH | E33: základná | F33: =ROUND((SUM(BE111:BE112) + SUM(BE130:BE210)), 2) -> 0 | I33: 0.2 | J33: =ROUND(((SUM(BE111:BE112) + SUM(BE130:BE210))*I33), 2) -> 0
E34: znížená | F34: =ROUND((SUM(BF111:BF112) + SUM(BF130:BF210)), 2) -> 0 | I34: 0.2 | J34: =ROUND(((SUM(BF111:BF112) + SUM(BF130:BF210))*I34), 2) -> 0
E35: zákl. prenesená | F35: =ROUND((SUM(BG111:BG112) + SUM(BG130:BG210)), 2) -> 0 | I35: 0.2 | J35: =0 -> 0
E36: zníž. prenesená | F36: =ROUND((SUM(BH111:BH112) + SUM(BH130:BH210)), 2) -> 0 | I36: 0.2 | J36: =0 -> 0
E37: nulová | F37: =ROUND((SUM(BI111:BI112) + SUM(BI130:BI210)), 2) -> 0 | I37: 0 | J37: =0 -> 0
D39: Cena s DPH | G39: v | H39: EUR | J39: =SUM(J30:J37) -> 0
D50: Projektant | G50: Spracovateľ
D61: Dátum a podpis: | F61: Pečiatka | G61: Dátum a podpis: | J61: Pečiatka
D65: Objednávateľ | G65: Zhotoviteľ
D76: Dátum a podpis: | F76: Pečiatka | G76: Dátum a podpis: | J76: Pečiatka
C82: REKAPITULÁCIA ROZPOČTU
C84: Stavba:
E85: =E7 -> Rekonštrukcia vonkajšieho areálu pre voľnočasové aktivity klientov
C87: Miesto: | F87: =F10 -> Trebišov | I87: Dátum: | J87: =IF(J10="","",J10) -> 30. 4. 2020
C89: Objednávateľ: | F89: =E13 -> LUMEN - ŠZ, ZpS a DSS. | I89: Projektant: | J89: =E19
C90: Zhotoviteľ: | F90: =IF(E16="","",E16) | I90: Spracovateľ: | J90: =E22
C92: Kód dielu - Popis | J92: Cena celkom [EUR]
C94: 1) Náklady z rozpočtu | J94: =J130 -> 0 | AU94: -1
D95: HSV - Práce a dodávky HSV | J95: =J131 -> 0
D96: 1 - Zemné práce | J96: =J132 -> 0
D97: 2 - Zakladanie | J97: =J141 -> 0
D98: 3 - Zvislé a kompletné konštrukcie | J98: =J144 -> 0
D99: 4 - Vodorovné konštrukcie | J99: =J157 -> 0
D100: 5 - Komunikácie | J100: =J160 -> 0
D101: 9 - Ostatné konštrukcie a práce-búranie | J101: =J176 -> 0
D102: 99 - Presun hmôt HSV | J102: =J183 -> 0
D103: PSV - Práce a dodávky PSV | J103: =J185 -> 0
D104: 713 - Izolácie tepelné | J104: =J186 -> 0
D105: 722 - Zdravotechnika - vnútorný vodovod | J105: =J189 -> 0
D106: 725 - Zdravotechnika - zariaďovacie predmety | J106: =J194 -> 0
D107: 767 - Konštrukcie doplnkové kovové | J107: =J197 -> 0
D108: 782 - Obklady z prírodného a konglomerovaného kameňa | J108: =J208 -> 0
C111: 2) Ostatné náklady | J111: 0 | N111: DPH
C113: Celkové náklady za stavbu 1) + 2) | J113: =ROUND(J94+J111,2) -> 0
C119: ROZPOČET
C121: Stavba:
E122: =E7 -> Rekonštrukcia vonkajšieho areálu pre voľnočasové aktivity klientov
C124: Miesto: | F124: =F10 -> Trebišov | I124: Dátum: | J124: =IF(J10="","",J10) -> 30. 4. 2020
C126: Objednávateľ: | F126: =E13 -> LUMEN - ŠZ, ZpS a DSS. | I126: Projektant: | J126: =E19
C127: Zhotoviteľ: | F127: =IF(E16="","",E16) | I127: Spracovateľ: | J127: =E22
C129: PČ | D129: Typ | E129: Kód | F129: Popis | G129: MJ | H129: Množstvo | I129: J.cena [EUR] | J129: Cena celkom [EUR] | K129: Cenová sústava | N129: DPH | O129: J. Nh [h] | P129: Nh celkom [h] | Q129: J. hmotnosť [t] | R129: Hmotnosť celkom [t] | S129: J. suť [t] | T129: Suť Celkom [t]
C130: Náklady z rozpočtu | J130: =BK130 -> 0 | P130: =P131+P185 -> 561.7402 | R130: =R131+R185 -> 393.60014 | T130: =T131+T185 -> 210.6728 | AT130: D | AU130: -1 | BK130: =BK131+BK185 -> 0
D131: D | E131: HSV | F131: Práce a dodávky HSV | J131: =BK131 -> 0 | P131: =P132+P141+P144+P157+P160+P176+P183 -> 489.6014 | R131: =R132+R141+R144+R157+R160+R176+R183 -> 392.85068 | T131: =T132+T141+T144+T157+T160+T176+T183 -> 209.7188 | AR131: 1 | AT131: D | AU131: 0 | AY131: ROZPOCET | BK131: =BK132+BK141+BK144+BK157+BK160+BK176+BK183 -> 0
D132: D | E132: 1 | F132: Zemné práce | J132: =BK132 -> 0 | P132: =SUM(P133:P140) -> 97.559635 | R132: =SUM(R133:R140) -> 0 | T132: =SUM(T133:T140) -> 198.7848 | AR132: 1 | AT132: D | AU132: 1 | AY132: ROZPOCET | BK132: =SUM(BK133:BK140) -> 0
C133: 1 | D133: K | E133: 113106612.S | F133: Rozoberanie zámkovej dlažby všetkých druhov v ploche nad 20 m2, -0,26000t | G133: m2 | H133: 36.33 | I133: 0 | J133: =ROUND(I133*H133,3) -> 0 | N133: znížená | O133: 0.236 | P133: =O133*H133 -> 8.57388 | Q133: 0 | R133: =Q133*H133 -> 0 | S133: 0.26 | T133: =S133*H133 -> 9.4458 | AR133: 4 | AT133: K | AU133: 2 | AY133: ROZPOCET | BE133: =IF(N133="základná",J133,0) -> 0 | BF133: =IF(N133="znížená",J133,0) -> 0 | BG133: =IF(N133="zákl. prenesená",J133,0) -> 0 | BH133: =IF(N133="zníž. prenesená",J133,0) -> 0 | BI133: =IF(N133="nulová",J133,0) -> 0 | BJ133: 2 | BK133: =ROUND(I133*H133,3) -> 0 | BL133: 4 | BM133: -2023330159
C134: 2 | D134: K | E134: 113107211.S | F134: Odstránenie krytu v ploche nad 200 m2 antukoveho , hr. vrstvy do 50 mm, -0,16000t | G134: m2 | H134: 689.06 | I134: 0 | J134: =ROUND(I134*H134,3) -> 0 | N134: znížená | O134: 0.032 | P134: =O134*H134 -> 22.04992 | Q134: 0 | R134: =Q134*H134 -> 0 | S134: 0.16 | T134: =S134*H134 -> 110.2496 | AR134: 4 | AT134: K | AU134: 2 | AY134: ROZPOCET | BE134: =IF(N134="základná",J134,0) -> 0 | BF134: =IF(N134="znížená",J134,0) -> 0 | BG134: =IF(N134="zákl. prenesená",J134,0) -> 0 | BH134: =IF(N134="zníž. prenesená",J134,0) -> 0 | BI134: =IF(N134="nulová",J134,0) -> 0 | BJ134: 2 | BK134: =ROUND(I134*H134,3) -> 0 | BL134: 4 | BM134: -78118230
C135: 3 | D135: K | E135: 113107221.S | F135: Odstránenie krytu v ploche nad 200 m2 z kameniva hrubého drveného, hr. do 100 mm, -0,13000t | G135: m2 | H135: 576.38 | I135: 0 | J135: =ROUND(I135*H135,3) -> 0 | N135: znížená | O135: 0.048 | P135: =O135*H135 -> 27.66624 | Q135: 0 | R135: =Q135*H135 -> 0 | S135: 0.13 | T135: =S135*H135 -> 74.9294 | AR135: 4 | AT135: K | AU135: 2 | AY135: ROZPOCET | BE135: =IF(N135="základná",J135,0) -> 0 | BF135: =IF(N135="znížená",J135,0) -> 0 | BG135: =IF(N135="zákl. prenesená",J135,0) -> 0 | BH135: =IF(N135="zníž. prenesená",J135,0) -> 0 | BI135: =IF(N135="nulová",J135,0) -> 0 | BJ135: 2 | BK135: =ROUND(I135*H135,3) -> 0 | BL135: 4 | BM135: -813879466
C136: 4 | D136: K | E136: 113208111.S | F136: Vytrhanie obrúb betonových, s vybúraním lôžka, záhonových, -0,04000t | G136: m | H136: 104 | I136: 0 | J136: =ROUND(I136*H136,3) -> 0 | N136: znížená | O136: 0.075 | P136: =O136*H136 -> 7.8 | Q136: 0 | R136: =Q136*H136 -> 0 | S136: 0.04 | T136: =S136*H136 -> 4.16 | AR136: 4 | AT136: K | AU136: 2 | AY136: ROZPOCET | BE136: =IF(N136="základná",J136,0) -> 0 | BF136: =IF(N136="znížená",J136,0) -> 0 | BG136: =IF(N136="zákl. prenesená",J136,0) -> 0 | BH136: =IF(N136="zníž. prenesená",J136,0) -> 0 | BI136: =IF(N136="nulová",J136,0) -> 0 | BJ136: 2 | BK136: =ROUND(I136*H136,3) -> 0 | BL136: 4 | BM136: -1179080263
C137: 5 | D137: K | E137: 122201101.S | F137: Odkopávka a prekopávka nezapažená v hornine 3, do 100 m3 | G137: m3 | H137: 43.303 | I137: 0 | J137: =ROUND(I137*H137,3) -> 0 | N137: znížená | O137: 0.46 | P137: =O137*H137 -> 19.91938 | Q137: 0 | R137: =Q137*H137 -> 0 | S137: 0 | T137: =S137*H137 -> 0 | AR137: 4 | AT137: K | AU137: 2 | AY137: ROZPOCET | BE137: =IF(N137="základná",J137,0) -> 0 | BF137: =IF(N137="znížená",J137,0) -> 0 | BG137: =IF(N137="zákl. prenesená",J137,0) -> 0 | BH137: =IF(N137="zníž. prenesená",J137,0) -> 0 | BI137: =IF(N137="nulová",J137,0) -> 0 | BJ137: 2 | BK137: =ROUND(I137*H137,3) -> 0 | BL137: 4 | BM137: 1061284555
C138: 6 | D138: K | E138: 122201109.S | F138: Odkopávky a prekopávky nezapažené. Príplatok k cenám za lepivosť horniny 3 | G138: m3 | H138: 43.303 | I138: 0 | J138: =ROUND(I138*H138,3) -> 0 | N138: znížená | O138: 0.056 | P138: =O138*H138 -> 2.424968 | Q138: 0 | R138: =Q138*H138 -> 0 | S138: 0 | T138: =S138*H138 -> 0 | AR138: 4 | AT138: K | AU138: 2 | AY138: ROZPOCET | BE138: =IF(N138="základná",J138,0) -> 0 | BF138: =IF(N138="znížená",J138,0) -> 0 | BG138: =IF(N138="zákl. prenesená",J138,0) -> 0 | BH138: =IF(N138="zníž. prenesená",J138,0) -> 0 | BI138: =IF(N138="nulová",J138,0) -> 0 | BJ138: 2 | BK138: =ROUND(I138*H138,3) -> 0 | BL138: 4 | BM138: -307987652
C139: 7 | D139: K | E139: 131201101.S | F139: Výkop nezapaženej jamy v hornine 3, do 100 m3 | G139: m3 | H139: 6.676 | I139: 0 | J139: =ROUND(I139*H139,3) -> 0 | N139: znížená | O139: 0.838 | P139: =O139*H139 -> 5.594488 | Q139: 0 | R139: =Q139*H139 -> 0 | S139: 0 | T139: =S139*H139 -> 0 | AR139: 4 | AT139: K | AU139: 2 | AY139: ROZPOCET | BE139: =IF(N139="základná",J139,0) -> 0 | BF139: =IF(N139="znížená",J139,0) -> 0 | BG139: =IF(N139="zákl. prenesená",J139,0) -> 0 | BH139: =IF(N139="zníž. prenesená",J139,0) -> 0 | BI139: =IF(N139="nulová",J139,0) -> 0 | BJ139: 2 | BK139: =ROUND(I139*H139,3) -> 0 | BL139: 4 | BM139: 1110335408
C140: 8 | D140: K | E140: 162501102.S | F140: Vodorovné premiestnenie výkopku po spevnenej ceste z horniny tr.1-4, do 100 m3 na vzdialenosť do 3000 m | G140: m3 | H140: 49.729 | I140: 0 | J140: =ROUND(I140*H140,3) -> 0 | N140: znížená | O140: 0.071 | P140: =O140*H140 -> 3.530759 | Q140: 0 | R140: =Q140*H140 -> 0 | S140: 0 | T140: =S140*H140 -> 0 | AR140: 4 | AT140: K | AU140: 2 | AY140: ROZPOCET | BE140: =IF(N140="základná",J140,0) -> 0 | BF140: =IF(N140="znížená",J140,0) -> 0 | BG140: =IF(N140="zákl. prenesená",J140,0) -> 0 | BH140: =IF(N140="zníž. prenesená",J140,0) -> 0 | BI140: =IF(N140="nulová",J140,0) -> 0 | BJ140: 2 | BK140: =ROUND(I140*H140,3) -> 0 | BL140: 4 | BM140: 1526222200
D141: D | E141: 2 | F141: Zakladanie | J141: =BK141 -> 0 | P141: =SUM(P142:P143) -> 3.1565572 | R141: =SUM(R142:R143) -> 11.360383 | T141: =SUM(T142:T143) -> 0 | AR141: 1 | AT141: D | AU141: 1 | AY141: ROZPOCET | BK141: =SUM(BK142:BK143) -> 0
C142: 9 | D142: K | E142: 274271302 | F142: Murivo základových pásov (m3) PREMAC 50x25x25 s betónovou výplňou C 16/20 hr. 250 mm | G142: m3 | H142: 0.063 | I142: 0 | J142: =ROUND(I142*H142,3) -> 0 | N142: znížená | O142: 3.36586 | P142: =O142*H142 -> 0.21204918 | Q142: 2.12864 | R142: =Q142*H142 -> 0.13410432 | S142: 0 | T142: =S142*H142 -> 0 | AR142: 4 | AT142: K | AU142: 2 | AY142: ROZPOCET | BE142: =IF(N142="základná",J142,0) -> 0 | BF142: =IF(N142="znížená",J142,0) -> 0 | BG142: =IF(N142="zákl. prenesená",J142,0) -> 0 | BH142: =IF(N142="zníž. prenesená",J142,0) -> 0 | BI142: =IF(N142="nulová",J142,0) -> 0 | BJ142: 2 | BK142: =ROUND(I142*H142,3) -> 0 | BL142: 4 | BM142: -777837905
C143: 10 | D143: K | E143: 275313612.S | F143: Betón základových pätiek, prostý tr. C 20/25 | G143: m3 | H143: 5.068 | I143: 0 | J143: =ROUND(I143*H143,3) -> 0 | N143: znížená | O143: 0.581 | P143: =O143*H143 -> 2.944508 | Q143: 2.21513 | R143: =Q143*H143 -> 11.226279 | S143: 0 | T143: =S143*H143 -> 0 | AR143: 4 | AT143: K | AU143: 2 | AY143: ROZPOCET | BE143: =IF(N143="základná",J143,0) -> 0 | BF143: =IF(N143="znížená",J143,0) -> 0 | BG143: =IF(N143="zákl. prenesená",J143,0) -> 0 | BH143: =IF(N143="zníž. prenesená",J143,0) -> 0 | BI143: =IF(N143="nulová",J143,0) -> 0 | BJ143: 2 | BK143: =ROUND(I143*H143,3) -> 0 | BL143: 4 | BM143: 1269017032
D144: D | E144: 3 | F144: Zvislé a kompletné konštrukcie | I144: 0 | J144: =BK144 -> 0 | P144: =SUM(P145:P156) -> 15.52233 | R144: =SUM(R145:R156) -> 5.1100712 | T144: =SUM(T145:T156) -> 0 | AR144: 1 | AT144: D | AU144: 1 | AY144: ROZPOCET | BK144: =SUM(BK145:BK156) -> 0
C145: 11 | D145: K | E145: 338171122.S | F145: Osadzovanie stĺpika oceľového plotového výšky nad 2 m so zabetónovaním do vopred vykopaných dier | G145: ks | H145: 39 | I145: 0 | J145: =ROUND(I145*H145,3) -> 0 | N145: znížená | O145: 0.377 | P145: =O145*H145 -> 14.703 | Q145: 0.10964 | R145: =Q145*H145 -> 4.27596 | S145: 0 | T145: =S145*H145 -> 0 | AR145: 4 | AT145: K | AU145: 2 | AY145: ROZPOCET | BE145: =IF(N145="základná",J145,0) -> 0 | BF145: =IF(N145="znížená",J145,0) -> 0 | BG145: =IF(N145="zákl. prenesená",J145,0) -> 0 | BH145: =IF(N145="zníž. prenesená",J145,0) -> 0 | BI145: =IF(N145="nulová",J145,0) -> 0 | BJ145: 2 | BK145: =ROUND(I145*H145,3) -> 0 | BL145: 4 | BM145: 1673542397
C146: 12 | D146: M | E146: 553510030800.S | F146: Stĺpik, výška 4,3 m, poplastovaný na pozinkovanej oceli, pre plotový systém d60/2 | G146: ks | H146: 26 | I146: 0 | J146: =ROUND(I146*H146,3) -> 0 | N146: znížená | O146: 0 | P146: =O146*H146 -> 0 | Q146: 0.0147 | R146: =Q146*H146 -> 0.3822 | S146: 0 | T146: =S146*H146 -> 0 | AR146: 8 | AT146: M | AU146: 2 | AY146: ROZPOCET | BE146: =IF(N146="základná",J146,0) -> 0 | BF146: =IF(N146="znížená",J146,0) -> 0 | BG146: =IF(N146="zákl. prenesená",J146,0) -> 0 | BH146: =IF(N146="zníž. prenesená",J146,0) -> 0 | BI146: =IF(N146="nulová",J146,0) -> 0 | BJ146: 2 | BK146: =ROUND(I146*H146,3) -> 0 | BL146: 4 | BM146: -293075119
C147: 13 | D147: M | E147: 553510030400.S | F147: Stĺpik, výška 3,1 m, poplastovaný na pozinkovanej oceli, pre plotový systém d60/2 | G147: ks | H147: 1 | I147: 0 | J147: =ROUND(I147*H147,3) -> 0 | N147: znížená | O147: 0 | P147: =O147*H147 -> 0 | Q147: 0.0117 | R147: =Q147*H147 -> 0.0117 | S147: 0 | T147: =S147*H147 -> 0 | AR147: 8 | AT147: M | AU147: 2 | AY147: ROZPOCET | BE147: =IF(N147="základná",J147,0) -> 0 | BF147: =IF(N147="znížená",J147,0) -> 0 | BG147: =IF(N147="zákl. prenesená",J147,0) -> 0 | BH147: =IF(N147="zníž. prenesená",J147,0) -> 0 | BI147: =IF(N147="nulová",J147,0) -> 0 | BJ147: 2 | BK147: =ROUND(I147*H147,3) -> 0 | BL147: 4 | BM147: 1130915688
C148: 14 | D148: M | E148: 553510030800 | F148: Vystuha výška 4,0 m, poplastovaný na pozinkovanej oceli, pre plotový systém,d38/2 | G148: ks | H148: 11 | I148: 0 | J148: =ROUND(I148*H148,3) -> 0 | N148: znížená | O148: 0 | P148: =O148*H148 -> 0 | Q148: 0.0147 | R148: =Q148*H148 -> 0.1617 | S148: 0 | T148: =S148*H148 -> 0 | AR148: 8 | AT148: M | AU148: 2 | AY148: ROZPOCET | BE148: =IF(N148="základná",J148,0) -> 0 | BF148: =IF(N148="znížená",J148,0) -> 0 | BG148: =IF(N148="zákl. prenesená",J148,0) -> 0 | BH148: =IF(N148="zníž. prenesená",J148,0) -> 0 | BI148: =IF(N148="nulová",J148,0) -> 0 | BJ148: 2 | BK148: =ROUND(I148*H148,3) -> 0 | BL148: 4 | BM148: -1826782475
C149: 15 | D149: M | E149: 553510030800-R | F149: Vystuha výška 4,4 m, poplastovaný na pozinkovanej oceli, pre plotový systém,d38/2 | G149: ks | H149: 1 | I149: 0 | J149: =ROUND(I149*H149,3) -> 0 | N149: znížená | O149: 0 | P149: =O149*H149 -> 0 | Q149: 0.0147 | R149: =Q149*H149 -> 0.0147 | S149: 0 | T149: =S149*H149 -> 0 | AR149: 8 | AT149: M | AU149: 2 | AY149: ROZPOCET | BE149: =IF(N149="základná",J149,0) -> 0 | BF149: =IF(N149="znížená",J149,0) -> 0 | BG149: =IF(N149="zákl. prenesená",J149,0) -> 0 | BH149: =IF(N149="zníž. prenesená",J149,0) -> 0 | BI149: =IF(N149="nulová",J149,0) -> 0 | BJ149: 2 | BK149: =ROUND(I149*H149,3) -> 0 | BL149: 4 | BM149: 1399564889
C150: 16 | D150: M | E150: 553510024300.S | F150: Príchytka na stĺpik | G150: ks | H150: 148 | I150: 0 | J150: =ROUND(I150*H150,3) -> 0 | N150: znížená | O150: 0 | P150: =O150*H150 -> 0 | Q150: 1e-05 | R150: =Q150*H150 -> 0.00148 | S150: 0 | T150: =S150*H150 -> 0 | AR150: 8 | AT150: M | AU150: 2 | AY150: ROZPOCET | BE150: =IF(N150="základná",J150,0) -> 0 | BF150: =IF(N150="znížená",J150,0) -> 0 | BG150: =IF(N150="zákl. prenesená",J150,0) -> 0 | BH150: =IF(N150="zníž. prenesená",J150,0) -> 0 | BI150: =IF(N150="nulová",J150,0) -> 0 | BJ150: 2 | BK150: =ROUND(I150*H150,3) -> 0 | BL150: 4 | BM150: -143126428
C151: 17 | D151: K | E151: 338172112.S | F151: Osadzovanie vzpery oceľovej plotovej so zabetónovaním do vopred vykopaných dier | G151: ks | H151: 1 | I151: 0 | J151: =ROUND(I151*H151,3) -> 0 | N151: znížená | O151: 0.38835 | P151: =O151*H151 -> 0.38835 | Q151: 0.15084 | R151: =Q151*H151 -> 0.15084 | S151: 0 | T151: =S151*H151 -> 0 | AR151: 4 | AT151: K | AU151: 2 | AY151: ROZPOCET | BE151: =IF(N151="základná",J151,0) -> 0 | BF151: =IF(N151="znížená",J151,0) -> 0 | BG151: =IF(N151="zákl. prenesená",J151,0) -> 0 | BH151: =IF(N151="zníž. prenesená",J151,0) -> 0 | BI151: =IF(N151="nulová",J151,0) -> 0 | BJ151: 2 | BK151: =ROUND(I151*H151,3) -> 0 | BL151: 4 | BM151: -1507259417
C152: 18 | D152: M | E152: 553510023000.SR | F152: Basketbalova sada - stojan s košom | G152: ks | H152: 1 | I152: 0 | J152: =ROUND(I152*H152,3) -> 0 | N152: znížená | O152: 0 | P152: =O152*H152 -> 0 | Q152: 0.0034 | R152: =Q152*H152 -> 0.0034 | S152: 0 | T152: =S152*H152 -> 0 | AR152: 8 | AT152: M | AU152: 2 | AY152: ROZPOCET | BE152: =IF(N152="základná",J152,0) -> 0 | BF152: =IF(N152="znížená",J152,0) -> 0 | BG152: =IF(N152="zákl. prenesená",J152,0) -> 0 | BH152: =IF(N152="zníž. prenesená",J152,0) -> 0 | BI152: =IF(N152="nulová",J152,0) -> 0 | BJ152: 2 | BK152: =ROUND(I152*H152,3) -> 0 | BL152: 4 | BM152: -1126747549
C153: 19 | D153: M | E153: 553510023001.SR | F153: Ruské kolky | G153: sada | H153: 1 | I153: 0 | J153: =ROUND(I153*H153,3) -> 0 | N153: znížená | O153: 0 | P153: =O153*H153 -> 0 | Q153: 0.0034 | R153: =Q153*H153 -> 0.0034 | S153: 0 | T153: =S153*H153 -> 0 | AR153: 8 | AT153: M | AU153: 2 | AY153: ROZPOCET | BE153: =IF(N153="základná",J153,0) -> 0 | BF153: =IF(N153="znížená",J153,0) -> 0 | BG153: =IF(N153="zákl. prenesená",J153,0) -> 0 | BH153: =IF(N153="zníž. prenesená",J153,0) -> 0 | BI153: =IF(N153="nulová",J153,0) -> 0 | BJ153: 2 | BK153: =ROUND(I153*H153,3) -> 0 | BL153: 4 | BM153: 1532821151
C154: 20 | D154: M | E154: 553510023002.SR | F154: Petangova sada guľ | G154: sada | H154: 1 | I154: 0 | J154: =ROUND(I154*H154,3) -> 0 | N154: znížená | O154: 0 | P154: =O154*H154 -> 0 | Q154: 0.0034 | R154: =Q154*H154 -> 0.0034 | S154: 0 | T154: =S154*H154 -> 0 | AR154: 8 | AT154: M | AU154: 2 | AY154: ROZPOCET | BE154: =IF(N154="základná",J154,0) -> 0 | BF154: =IF(N154="znížená",J154,0) -> 0 | BG154: =IF(N154="zákl. prenesená",J154,0) -> 0 | BH154: =IF(N154="zníž. prenesená",J154,0) -> 0 | BI154: =IF(N154="nulová",J154,0) -> 0 | BJ154: 2 | BK154: =ROUND(I154*H154,3) -> 0 | BL154: 4 | BM154: 446887557
C155: 21 | D155: M | E155: 553510023003.SR | F155: Tenisova /volejbalova sada stlpikov, puzdra, sieť, paska | G155: sada | H155: 1 | I155: 0 | J155: =ROUND(I155*H155,3) -> 0 | N155: znížená | O155: 0 | P155: =O155*H155 -> 0 | Q155: 0.0034 | R155: =Q155*H155 -> 0.0034 | S155: 0 | T155: =S155*H155 -> 0 | AR155: 8 | AT155: M | AU155: 2 | AY155: ROZPOCET | BE155: =IF(N155="základná",J155,0) -> 0 | BF155: =IF(N155="znížená",J155,0) -> 0 | BG155: =IF(N155="zákl. prenesená",J155,0) -> 0 | BH155: =IF(N155="zníž. prenesená",J155,0) -> 0 | BI155: =IF(N155="nulová",J155,0) -> 0 | BJ155: 2 | BK155: =ROUND(I155*H155,3) -> 0 | BL155: 4 | BM155: 329209062
C156: 22 | D156: K | E156: 342272051.S | F156: Priečky z pórobetónových tvárnic hladkých s objemovou hmotnosťou do 600 kg/m3 hrúbky 150 mm | G156: m2 | H156: 0.88 | I156: 0 | J156: =ROUND(I156*H156,3) -> 0 | N156: znížená | O156: 0.48975 | P156: =O156*H156 -> 0.43098 | Q156: 0.11124 | R156: =Q156*H156 -> 0.0978912 | S156: 0 | T156: =S156*H156 -> 0 | AR156: 4 | AT156: K | AU156: 2 | AY156: ROZPOCET | BE156: =IF(N156="základná",J156,0) -> 0 | BF156: =IF(N156="znížená",J156,0) -> 0 | BG156: =IF(N156="zákl. prenesená",J156,0) -> 0 | BH156: =IF(N156="zníž. prenesená",J156,0) -> 0 | BI156: =IF(N156="nulová",J156,0) -> 0 | BJ156: 2 | BK156: =ROUND(I156*H156,3) -> 0 | BL156: 4 | BM156: 903037990
D157: D | E157: 4 | F157: Vodorovné konštrukcie | J157: =BK157 -> 0 | P157: =SUM(P158:P159) -> 5.52 | R157: =SUM(R158:R159) -> 0.0528 | T157: =SUM(T158:T159) -> 0 | AR157: 1 | AT157: D | AU157: 1 | AY157: ROZPOCET | BK157: =SUM(BK158:BK159) -> 0
C158: 23 | D158: K | E158: 457971111 | F158: Zriadenie vrstvy z geotextílie s presahom, so sklonom do 1:5, šírky geotextílie do 3 m | G158: m2 | H158: 60 | I158: 0 | J158: =ROUND(I158*H158,3) -> 0 | N158: znížená | O158: 0.092 | P158: =O158*H158 -> 5.52 | Q158: 0.00028 | R158: =Q158*H158 -> 0.0168 | S158: 0 | T158: =S158*H158 -> 0 | AR158: 4 | AT158: K | AU158: 2 | AY158: ROZPOCET | BE158: =IF(N158="základná",J158,0) -> 0 | BF158: =IF(N158="znížená",J158,0) -> 0 | BG158: =IF(N158="zákl. prenesená",J158,0) -> 0 | BH158: =IF(N158="zníž. prenesená",J158,0) -> 0 | BI158: =IF(N158="nulová",J158,0) -> 0 | BJ158: 2 | BK158: =ROUND(I158*H158,3) -> 0 | BL158: 4 | BM158: -1858829859
C159: 24 | D159: M | E159: 693110003200.S | F159: Geotextília polypropylénová netkaná 500 g/m2 | G159: m2 | H159: 72 | I159: 0 | J159: =ROUND(I159*H159,3) -> 0 | N159: znížená | O159: 0 | P159: =O159*H159 -> 0 | Q159: 0.0005 | R159: =Q159*H159 -> 0.036 | S159: 0 | T159: =S159*H159 -> 0 | AR159: 8 | AT159: M | AU159: 2 | AY159: ROZPOCET | BE159: =IF(N159="základná",J159,0) -> 0 | BF159: =IF(N159="znížená",J159,0) -> 0 | BG159: =IF(N159="zákl. prenesená",J159,0) -> 0 | BH159: =IF(N159="zníž. prenesená",J159,0) -> 0 | BI159: =IF(N159="nulová",J159,0) -> 0 | BJ159: 2 | BK159: =ROUND(I159*H159,3) -> 0 | BL159: 4 | BM159: 1179746602
D160: D | E160: 5 | F160: Komunikácie | J160: =BK160 -> 0 | P160: =SUM(P161:P175) -> 271.14888 | R160: =SUM(R161:R175) -> 337.34502 | T160: =SUM(T161:T175) -> 0 | AR160: 1 | AT160: D | AU160: 1 | AY160: ROZPOCET | BK160: =SUM(BK161:BK175) -> 0
C161: 25 | D161: K | E161: 564710111.S | F161: Podklad alebo kryt z kameniva hrubého drveného veľ. 8-16 mm s rozprestretím a zhutnením hr. 50 mm | G161: m2 | H161: 60 | I161: 0 | J161: =ROUND(I161*H161,3) -> 0 | N161: znížená | O161: 0.02012 | P161: =O161*H161 -> 1.2072 | Q161: 0.106 | R161: =Q161*H161 -> 6.36 | S161: 0 | T161: =S161*H161 -> 0 | AR161: 4 | AT161: K | AU161: 2 | AY161: ROZPOCET | BE161: =IF(N161="základná",J161,0) -> 0 | BF161: =IF(N161="znížená",J161,0) -> 0 | BG161: =IF(N161="zákl. prenesená",J161,0) -> 0 | BH161: =IF(N161="zníž. prenesená",J161,0) -> 0 | BI161: =IF(N161="nulová",J161,0) -> 0 | BJ161: 2 | BK161: =ROUND(I161*H161,3) -> 0 | BL161: 4 | BM161: 1484714804
C162: 26 | D162: K | E162: 564732111.S | F162: Podklad alebo kryt z kameniva hrubého drveného veľ. 32-63 mm (vibr.štrk) po zhut.hr. 100 mm | G162: m2 | H162: 60 | I162: 0 | J162: =ROUND(I162*H162,3) -> 0 | N162: znížená | O162: 0.04912 | P162: =O162*H162 -> 2.9472 | Q162: 0.25094 | R162: =Q162*H162 -> 15.0564 | S162: 0 | T162: =S162*H162 -> 0 | AR162: 4 | AT162: K | AU162: 2 | AY162: ROZPOCET | BE162: =IF(N162="základná",J162,0) -> 0 | BF162: =IF(N162="znížená",J162,0) -> 0 | BG162: =IF(N162="zákl. prenesená",J162,0) -> 0 | BH162: =IF(N162="zníž. prenesená",J162,0) -> 0 | BI162: =IF(N162="nulová",J162,0) -> 0 | BJ162: 2 | BK162: =ROUND(I162*H162,3) -> 0 | BL162: 4 | BM162: -1086429636
C163: 27 | D163: K | E163: 564750211.S | F163: Podklad alebo kryt z kameniva hrubého drveného veľ. 0-32 mm s rozprestretím a zhutnením hr. 150 mm | G163: m2 | H163: 137 | I163: 0 | J163: =ROUND(I163*H163,3) -> 0 | N163: znížená | O163: 0.026 | P163: =O163*H163 -> 3.562 | Q163: 0.299 | R163: =Q163*H163 -> 40.963 | S163: 0 | T163: =S163*H163 -> 0 | AR163: 4 | AT163: K | AU163: 2 | AY163: ROZPOCET | BE163: =IF(N163="základná",J163,0) -> 0 | BF163: =IF(N163="znížená",J163,0) -> 0 | BG163: =IF(N163="zákl. prenesená",J163,0) -> 0 | BH163: =IF(N163="zníž. prenesená",J163,0) -> 0 | BI163: =IF(N163="nulová",J163,0) -> 0 | BJ163: 2 | BK163: =ROUND(I163*H163,3) -> 0 | BL163: 4 | BM163: -438753276
C164: 28 | D164: K | E164: 564811111.S | F164: Podklad zo štrkodrviny s rozprestretím a zhutnením, po zhutnení hr. 50 mm | G164: m2 | H164: 137 | I164: 0 | J164: =ROUND(I164*H164,3) -> 0 | N164: znížená | O164: 0.02012 | P164: =O164*H164 -> 2.75644 | Q164: 0.0982 | R164: =Q164*H164 -> 13.4534 | S164: 0 | T164: =S164*H164 -> 0 | AR164: 4 | AT164: K | AU164: 2 | AY164: ROZPOCET | BE164: =IF(N164="základná",J164,0) -> 0 | BF164: =IF(N164="znížená",J164,0) -> 0 | BG164: =IF(N164="zákl. prenesená",J164,0) -> 0 | BH164: =IF(N164="zníž. prenesená",J164,0) -> 0 | BI164: =IF(N164="nulová",J164,0) -> 0 | BJ164: 2 | BK164: =ROUND(I164*H164,3) -> 0 | BL164: 4 | BM164: 788607108
C165: 29 | D165: K | E165: 567122111.S | F165: Podklad z kameniva stmeleného cementom, s rozprestretím a zhutnením CBGM C 8/10 (C 6/8), po zhutnení hr. 120 mm | G165: m2 | H165: 60 | I165: 0 | J165: =ROUND(I165*H165,3) -> 0 | N165: znížená | O165: 0.02412 | P165: =O165*H165 -> 1.4472 | Q165: 0.28731 | R165: =Q165*H165 -> 17.2386 | S165: 0 | T165: =S165*H165 -> 0 | AR165: 4 | AT165: K | AU165: 2 | AY165: ROZPOCET | BE165: =IF(N165="základná",J165,0) -> 0 | BF165: =IF(N165="znížená",J165,0) -> 0 | BG165: =IF(N165="zákl. prenesená",J165,0) -> 0 | BH165: =IF(N165="zníž. prenesená",J165,0) -> 0 | BI165: =IF(N165="nulová",J165,0) -> 0 | BJ165: 2 | BK165: =ROUND(I165*H165,3) -> 0 | BL165: 4 | BM165: 1988646901
C166: 30 | D166: K | E166: 564750211.S | F166: Podklad alebo kryt z kameniva hrubého drveného veľ. 0-32 mm s rozprestretím a zhutnením hr. 150 mm | G166: m2 | H166: 568.33 | I166: 0 | J166: =ROUND(I166*H166,3) -> 0 | N166: znížená | O166: 0.026 | P166: =O166*H166 -> 14.77658 | Q166: 0.299 | R166: =Q166*H166 -> 169.93067 | S166: 0 | T166: =S166*H166 -> 0 | AR166: 4 | AT166: K | AU166: 2 | AY166: ROZPOCET | BE166: =IF(N166="základná",J166,0) -> 0 | BF166: =IF(N166="znížená",J166,0) -> 0 | BG166: =IF(N166="zákl. prenesená",J166,0) -> 0 | BH166: =IF(N166="zníž. prenesená",J166,0) -> 0 | BI166: =IF(N166="nulová",J166,0) -> 0 | BJ166: 2 | BK166: =ROUND(I166*H166,3) -> 0 | BL166: 4 | BM166: -1196645378
C167: 31 | D167: K | E167: 564801111.S | F167: Podklad zo štrkodrviny s rozprestretím a zhutnením, po zhutnení hr. 30 mm | G167: m2 | H167: 568.33 | I167: 0 | J167: =ROUND(I167*H167,3) -> 0 | N167: znížená | O167: 0.01912 | P167: =O167*H167 -> 10.86647 | Q167: 0.06185 | R167: =Q167*H167 -> 35.151211 | S167: 0 | T167: =S167*H167 -> 0 | AR167: 4 | AT167: K | AU167: 2 | AY167: ROZPOCET | BE167: =IF(N167="základná",J167,0) -> 0 | BF167: =IF(N167="znížená",J167,0) -> 0 | BG167: =IF(N167="zákl. prenesená",J167,0) -> 0 | BH167: =IF(N167="zníž. prenesená",J167,0) -> 0 | BI167: =IF(N167="nulová",J167,0) -> 0 | BJ167: 2 | BK167: =ROUND(I167*H167,3) -> 0 | BL167: 4 | BM167: 208587485
C168: 32 | D168: K | E168: 589100006.S | F168: Položenie umelej trávy na viacúčelové povrchy | G168: m2 | H168: 568.33 | I168: 0 | J168: =ROUND(I168*H168,3) -> 0 | N168: znížená | O168: 0.23 | P168: =O168*H168 -> 130.7159 | Q168: 0.00027 | R168: =Q168*H168 -> 0.1534491 | S168: 0 | T168: =S168*H168 -> 0 | AR168: 4 | AT168: K | AU168: 2 | AY168: ROZPOCET | BE168: =IF(N168="základná",J168,0) -> 0 | BF168: =IF(N168="znížená",J168,0) -> 0 | BG168: =IF(N168="zákl. prenesená",J168,0) -> 0 | BH168: =IF(N168="zníž. prenesená",J168,0) -> 0 | BI168: =IF(N168="nulová",J168,0) -> 0 | BJ168: 2 | BK168: =ROUND(I168*H168,3) -> 0 | BL168: 4 | BM168: 129174257
...
