Workbook

Sheet Rekapitulácia stavby
A1: Export Komplet | BA1: 2.0 | BT1: False | BU1: False | BV1: {34a1ab8c-0182-4e5e-8b6d-431661538da2}
AR2: >> skryté stĺpce << | BS2: 0,001 | BT2: 20
BS3: 0,001 | BT3: 20
D4: REKAPITULÁCIA STAVBY | AS4: v --- nižšie sa nachádzajú doplnkové a pomocné údaje k zostavám --- v | BE4: Návod na vyplnenie | BS4: 0,001
D5: Kód: | K5: 13545 | BE5: Meniť je možné iba bunky so žltým podfarbením!_x000D_ _x000D_ 1) na prvom liste Rekapitulácie stavby vyplňte v zostave_x000D_ _x000D_ a) Rekapitulácia stavby_x000D_ - údaje o Zhotoviteľovi_x000D_ (prenesú sa do ostatných zostáv aj v iných listoch)_x000D_ _x000D_ b) Rekapitulácia objektov stavby_x000D_ - potrebné Ostatné náklady_x000D_ _x000D_ 2) na vybraných listoch vyplňte v zostave_x000D_ _x000D_ a) Krycí list_x000D_ - údaje o Zhotoviteľovi, pokiaľ sa líšia od údajov o Zhotoviteľovi na Rekapitulácii stavby_x000D_ (údaje se prenesú do ostatných zostav v danom liste)_x000D_ _x000D_ b) Rekapitulácia rozpočtu_x000D_ - potrebné Ostatné náklady_x000D_ _x000D_ c) Celkové náklady za stavbu_x000D_ - ceny na položkách_x000D_ - množstvo, pokiaľ má žlté podfarbenie_x000D_ - a v prípade potreby poznámku (tá je v skrytom stĺpci) | BS5: 0,001
D6: Stavba: | K6: Psychiatrické oddelenie Trebišov - Výmena krovu a strechy | BS6: 0,001
D7: JKSO: | AK7: KS: | BS7: 0,001
D8: Miesto: | K8: Trebišov | AK8: Dátum: | AN8: 31. 7. 2019 | BS8: 0,001
BS9: 0,001
D10: Objednávateľ: | AK10: IČO: | BS10: 0,001
E11: LUMEN- zariadenie pre seniorov, Trebišov | AK11: IČ DPH: | BS11: 0,001
BS12: 0,001
D13: Zhotoviteľ: | AK13: IČO: | AN13: Vyplň údaj | BS13: 0,001
E14: Vyplň údaj | AK14: IČ DPH: | AN14: Vyplň údaj | BS14: 0,001
BS15: False
D16: Projektant: | AK16: IČO: | BS16: False
AK17: IČ DPH: | BS17: True
BS18: 0,01
D19: Spracovateľ: | AK19: IČO: | BS19: 0,01
AK20: IČ DPH: | BS20: True
D22: Poznámka:
D26: Cena bez DPH | AK26: =ROUND(AG94,2) -> 0
L28: Sadzba dane | W28: Základ dane | AK28: Výška dane
D29: DPH | F29: základná | L29: 0.2 | W29: =ROUND(AZ94, 2) -> 0 | AK29: =ROUND(AV94, 2) -> 0
F30: znížená | L30: 0.2 | W30: =ROUND(BA94, 2) -> 0 | AK30: =ROUND(AW94, 2) -> 0
F31: zákl. prenesená | L31: 0.2 | W31: =ROUND(BB94, 2) -> 0 | AK31: 0
F32: zníž. prenesená | L32: 0.2 | W32: =ROUND(BC94, 2) -> 0 | AK32: 0
F33: nulová | L33: 0 | W33: =ROUND(BD94, 2) -> 0 | AK33: 0
D35: Cena s DPH | T35: v | X35: EUR | AK35: =SUM(AK26:AK33) -> 0
D49: Projektant | AH49: Spracovateľ
D60: Dátum a podpis: | V60: Pečiatka | AH60: Dátum a podpis: | AM60: Pečiatka
D64: Objednávateľ | AH64: Zhotoviteľ
D75: Dátum a podpis: | V75: Pečiatka | AH75: Dátum a podpis: | AM75: Pečiatka
C82: REKAPITULÁCIA OBJEKTOV STAVBY
C84: Kód: | L84: =K5 -> 13545
C85: Stavba: | L85: =K6 -> Psychiatrické oddelenie Trebišov - Výmena krovu a strechy
C87: Miesto: | L87: =IF(K8="","",K8) -> Trebišov | AI87: Dátum: | AM87: =IF(AN8= "","",AN8) -> 31. 7. 2019
C89: Objednávateľ: | L89: =IF(E11= "","",E11) -> LUMEN- zariadenie pre seniorov, Trebišov | AI89: Projektant: | AM89: =IF(E17="","",E17) | AS89: Informatívne údaje z listov zákaziek
C90: Zhotoviteľ: | L90: =IF(E14= "Vyplň údaj","",E14) | AI90: Spracovateľ: | AM90: =IF(E20="","",E20)
C92: Kód | I92: Popis | AG92: Cena bez DPH [EUR] | AN92: Cena s DPH [EUR] | AQ92: Typ | AS92: z toho Ostat._x000D_ náklady [EUR] | AT92: DPH [EUR] | AU92: Normohodiny [h] | AV92: DPH základná [EUR] | AW92: DPH znížená [EUR] | AX92: DPH základná prenesená_x000D_ [EUR] | AY92: DPH znížená prenesená_x000D_ [EUR] | AZ92: Základňa_x000D_ DPH základná | BA92: Základňa_x000D_ DPH znížená | BB92: Základňa_x000D_ DPH zákl. prenesená | BC92: Základňa_x000D_ DPH zníž. prenesená | BD92: Základňa_x000D_ DPH nulová
C94: Náklady z rozpočtov | AG94: =ROUND(AG95,2) -> 0 | AN94: =SUM(AG94,AT94) -> 0 | AS94: =ROUND(AS95,2) -> 0 | AT94: =ROUND(SUM(AV94:AW94),2) -> 0 | AU94: =ROUND(AU95,5) -> 0 | AV94: =ROUND(AZ94*L29,2) -> 0 | AW94: =ROUND(BA94*L30,2) -> 0 | AX94: =ROUND(BB94*L29,2) -> 0 | AY94: =ROUND(BC94*L30,2) -> 0 | AZ94: =ROUND(AZ95,2) -> 0 | BA94: =ROUND(BA95,2) -> 0 | BB94: =ROUND(BB95,2) -> 0 | BC94: =ROUND(BC95,2) -> 0 | BD94: =ROUND(BD95,2) -> 0 | BS94: D | BT94: 0 | BV94: IMPORT | BW94: {34a1ab8c-0182-4e5e-8b6d-431661538da2} | BX94: {00000000-0000-0000-0000-000000000000}
A95: / | D95: 13545 | J95: Psychiatrické oddelenie Trebišov - Výmena krovu a strechy | AG95: ='13545 - Špecializované zariaden'!J28 -> 0 | AN95: =SUM(AG95,AT95) -> 0 | AQ95: STA | AS95: 0 | AT95: =ROUND(SUM(AV95:AW95),2) -> 0 | AU95: ='13545 - Špecializované zariaden'!P123 -> 0 | AV95: ='13545 - Špecializované zariaden'!J31 -> 0 | AW95: ='13545 - Špecializované zariaden'!J32 -> 0 | AX95: ='13545 - Špecializované zariaden'!J33 -> 0 | AY95: ='13545 - Špecializované zariaden'!J34 -> 0 | AZ95: ='13545 - Špecializované zariaden'!F31 -> 0 | BA95: ='13545 - Špecializované zariaden'!F32 -> 0 | BB95: ='13545 - Špecializované zariaden'!F33 -> 0 | BC95: ='13545 - Špecializované zariaden'!F34 -> 0 | BD95: ='13545 - Špecializované zariaden'!F35 -> 0 | BT95: 1 | BU95: ###NOINSERT### | BV95: IMPORT | BW95: {34a1ab8c-0182-4e5e-8b6d-431661538da2} | BX95: {00000000-0000-0000-0000-000000000000}

Sheet 13545 - Špecializované zariaden
L2: >> skryté stĺpce << | AT2: {34a1ab8c-0182-4e5e-8b6d-431661538da2}
AT3: 0
D4: KRYCÍ LIST ROZPOČTU | M4: v --- nižšie sa nachádzajú doplnkové a pomocné údaje k zostavám --- v | AT4: False
D6: Stavba:
E7: „Rekonštrukcia budovy zariadenia Lumen - Rekonštrukcia strechy“
D9: JKSO: | I9: KS:
D10: Miesto: | F10: Trebišov | I10: Dátum: | J10: 43712
D12: Objednávateľ: | I12: IČO:
E13: LUMEN Špecializované zariadenie, zariadenie pre seniorov a domov sociál. služieb | I13: IČ DPH:
D15: Zhotoviteľ: | I15: IČO: | J15: ='Rekapitulácia stavby'!AN13 -> Vyplň údaj
E16: ='Rekapitulácia stavby'!E14 -> Vyplň údaj | I16: IČ DPH: | J16: ='Rekapitulácia stavby'!AN14 -> Vyplň údaj
D18: Projektant: | I18: IČO: | J18: =IF('Rekapitulácia stavby'!AN16="","",'Rekapitulácia stavby'!AN16)
E19: =IF('Rekapitulácia stavby'!E17="","",'Rekapitulácia stavby'!E17) | I19: IČ DPH: | J19: =IF('Rekapitulácia stavby'!AN17="","",'Rekapitulácia stavby'!AN17)
D21: Spracovateľ: | I21: IČO: | J21: =IF('Rekapitulácia stavby'!AN19="","",'Rekapitulácia stavby'!AN19)
E22: =IF('Rekapitulácia stavby'!E20="","",'Rekapitulácia stavby'!E20) | I22: IČ DPH: | J22: =IF('Rekapitulácia stavby'!AN20="","",'Rekapitulácia stavby'!AN20)
D24: Poznámka:
D28: Cena bez DPH | J28: =ROUND(J123, 2) -> 0
F30: Základ dane | I30: Sadzba dane | J30: Výška dane
D31: DPH | E31: základná | F31: =ROUND((SUM(BE123:BE201)), 2) -> 0 | I31: 0.2 | J31: =ROUND(((SUM(BE123:BE201))*I31), 2) -> 0
E32: znížená | F32: =ROUND((SUM(BF123:BF201)), 2) -> 0 | I32: 0.2 | J32: =ROUND(((SUM(BF123:BF201))*I32), 2) -> 0
E33: zákl. prenesená | F33: =ROUND((SUM(BG123:BG201)), 2) -> 0 | I33: 0.2 | J33: =0 -> 0
E34: zníž. prenesená | F34: =ROUND((SUM(BH123:BH201)), 2) -> 0 | I34: 0.2 | J34: =0 -> 0
E35: nulová | F35: =ROUND((SUM(BI123:BI201)), 2) -> 0 | I35: 0 | J35: =0 -> 0
D37: Cena s DPH | G37: v | H37: EUR | J37: =SUM(J28:J35) -> 0
D50: Projektant | G50: Spracovateľ
D61: Dátum a podpis: | F61: Pečiatka | G61: Dátum a podpis: | J61: Pečiatka
D65: Objednávateľ | G65: Zhotoviteľ
D76: Dátum a podpis: | F76: Pečiatka | G76: Dátum a podpis: | J76: Pečiatka
C82: REKAPITULÁCIA ROZPOČTU
C84: Stavba:
E85: =E7 -> „Rekonštrukcia budovy zariadenia Lumen - Rekonštrukcia strechy“
C87: Miesto: | F87: =F10 -> Trebišov | I87: Dátum: | J87: =IF(J10="","",J10) -> 43712
C89: Objednávateľ: | F89: =E13 -> LUMEN Špecializované zariadenie, zariadenie pre seniorov a domov sociál. služieb | I89: Projektant: | J89: =E19
C90: Zhotoviteľ: | F90: =IF(E16="","",E16) -> Vyplň údaj | I90: Spracovateľ: | J90: =E22
C92: Kód dielu - Popis | J92: Cena celkom [EUR]
C94: Náklady z rozpočtu | J94: =J123 -> 0 | AU94: -1
D95: HSV - Práce a dodávky HSV | J95: =J124 -> 0
D96: 9 - Ostatné konštrukcie a práce-búranie | J96: =J125 -> 0
D97: 99 - Presun hmôt HSV | J97: =J138 -> 0
D98: PSV - Práce a dodávky PSV | J98: =J140 -> 0
D99: 762 - Konštrukcie tesárske | J99: =J141 -> 0
D100: 764 - Konštrukcie klampiarske | J100: =J156 -> 0
D101: 765 - Konštrukcie - krytiny tvrdé | J101: =J168 -> 0
D102: 783 - Nátery | J102: =J182 -> 0
D103: M - Práce a dodávky M | J103: =J184 -> 0
D104: 21-M - Elektromontáže | J104: =J185 -> 0
D105: HZS - Hodinové zúčtovacie sadzby | J105: =J200 -> 0
C112: ROZPOČET
C114: Stavba:
E115: =E7 -> „Rekonštrukcia budovy zariadenia Lumen - Rekonštrukcia strechy“
C117: Miesto: | F117: =F10 -> Trebišov | I117: Dátum: | J117: =IF(J10="","",J10) -> 43712
C119: Objednávateľ: | F119: =E13 -> LUMEN Špecializované zariadenie, zariadenie pre seniorov a domov sociál. služieb | I119: Projektant: | J119: =E19
C120: Zhotoviteľ: | F120: =IF(E16="","",E16) -> Vyplň údaj | I120: Spracovateľ: | J120: =E22
C122: PČ | D122: Typ | E122: Kód | F122: Popis | G122: MJ | H122: Množstvo | I122: J.cena [EUR] | J122: Cena celkom [EUR] | K122: Cenová sústava | N122: DPH | O122: J. Nh [h] | P122: Nh celkom [h] | Q122: J. hmotnosť [t] | R122: Hmotnosť celkom [t] | S122: J. suť [t] | T122: Suť Celkom [t]
C123: Náklady z rozpočtu | J123: =BK123 -> 0 | P123: =P124+P140+P184+P200 -> 0 | R123: =R124+R140+R184+R200 -> 222.4818 | T123: =T124+T140+T184+T200 -> 150.28561 | AT123: D | AU123: -1 | BK123: =BK124+BK140+BK184+BK200 -> 0
D124: D | E124: HSV | F124: Práce a dodávky HSV | J124: =BK124 -> 0 | P124: =P125+P138 -> 0 | R124: =R125+R138 -> 169.11023 | T124: =T125+T138 -> 52.60788 | AR124: 1 | AT124: D | AU124: 0 | AY124: ROZPOCET | BK124: =BK125+BK138 -> 0
D125: D | E125: 9 | F125: Ostatné konštrukcie a práce-búranie | J125: =BK125 -> 0 | P125: =SUM(P126:P137) -> 0 | R125: =SUM(R126:R137) -> 169.11023 | T125: =SUM(T126:T137) -> 52.60788 | AR125: 1 | AT125: D | AU125: 1 | AY125: ROZPOCET | BK125: =SUM(BK126:BK137) -> 0
C126: 1 | D126: K | E126: 938907141 | F126: Odstránenie nánosu z vtačieho trusu | G126: m3 | H126: 205.119 | J126: =ROUND(I126*H126,3) -> 0 | N126: znížená | P126: =O126*H126 -> 0 | Q126: 0 | R126: =Q126*H126 -> 0 | S126: 0.12 | T126: =S126*H126 -> 24.61428 | AR126: 4 | AT126: K | AU126: 2 | AY126: ROZPOCET | BE126: =IF(N126="základná",J126,0) -> 0 | BF126: =IF(N126="znížená",J126,0) -> 0 | BG126: =IF(N126="zákl. prenesená",J126,0) -> 0 | BH126: =IF(N126="zníž. prenesená",J126,0) -> 0 | BI126: =IF(N126="nulová",J126,0) -> 0 | BJ126: 2 | BK126: =ROUND(I126*H126,3) -> 0 | BL126: 4 | BM126: -1398641395
C127: 2 | D127: K | E127: 941941031 | F127: Montáž lešenia ľahkého pracovného radového s podlahami šírky od 0,80 do 1,00 m, výšky do 10 m | G127: m2 | H127: 3287.2 | J127: =ROUND(I127*H127,3) -> 0 | N127: znížená | P127: =O127*H127 -> 0 | Q127: 0.02572 | R127: =Q127*H127 -> 84.546784 | S127: 0 | T127: =S127*H127 -> 0 | AR127: 4 | AT127: K | AU127: 2 | AY127: ROZPOCET | BE127: =IF(N127="základná",J127,0) -> 0 | BF127: =IF(N127="znížená",J127,0) -> 0 | BG127: =IF(N127="zákl. prenesená",J127,0) -> 0 | BH127: =IF(N127="zníž. prenesená",J127,0) -> 0 | BI127: =IF(N127="nulová",J127,0) -> 0 | BJ127: 2 | BK127: =ROUND(I127*H127,3) -> 0 | BL127: 4 | BM127: 260995412
C128: 3 | D128: K | E128: 941941191 | F128: Príplatok za prvý a každý ďalší i začatý mesiac použitia lešenia ľahkého pracovného radového s podlahami šírky od 0,80 do 1,00 m, výšky do 10 m | G128: m2 | H128: 6574.4 | J128: =ROUND(I128*H128,3) -> 0 | N128: znížená | P128: =O128*H128 -> 0 | Q128: 0 | R128: =Q128*H128 -> 0 | S128: 0 | T128: =S128*H128 -> 0 | AR128: 4 | AT128: K | AU128: 2 | AY128: ROZPOCET | BE128: =IF(N128="základná",J128,0) -> 0 | BF128: =IF(N128="znížená",J128,0) -> 0 | BG128: =IF(N128="zákl. prenesená",J128,0) -> 0 | BH128: =IF(N128="zníž. prenesená",J128,0) -> 0 | BI128: =IF(N128="nulová",J128,0) -> 0 | BJ128: 2 | BK128: =ROUND(I128*H128,3) -> 0 | BL128: 4 | BM128: 341440430
C129: 4 | D129: K | E129: 941941841 | F129: Demontáž lešenia ľahkého pracovného radového s podlahami šírky nad 1,00 do 1,20 m, výšky do 10 m | G129: m2 | H129: 3267.2 | J129: =ROUND(I129*H129,3) -> 0 | N129: znížená | P129: =O129*H129 -> 0 | Q129: 0.02572 | R129: =Q129*H129 -> 84.032384 | S129: 0 | T129: =S129*H129 -> 0 | AR129: 4 | AT129: K | AU129: 2 | AY129: ROZPOCET | BE129: =IF(N129="základná",J129,0) -> 0 | BF129: =IF(N129="znížená",J129,0) -> 0 | BG129: =IF(N129="zákl. prenesená",J129,0) -> 0 | BH129: =IF(N129="zníž. prenesená",J129,0) -> 0 | BI129: =IF(N129="nulová",J129,0) -> 0 | BJ129: 2 | BK129: =ROUND(I129*H129,3) -> 0 | BL129: 4 | BM129: 470609025
C130: 5 | D130: K | E130: 962032314 | F130: Búranie pilierov tehlových na akúkoľvek maltu, -1,80000t | G130: m3 | H130: 15.552 | J130: =ROUND(I130*H130,3) -> 0 | N130: znížená | P130: =O130*H130 -> 0 | Q130: 0 | R130: =Q130*H130 -> 0 | S130: 1.8 | T130: =S130*H130 -> 27.9936 | AR130: 4 | AT130: K | AU130: 2 | AY130: ROZPOCET | BE130: =IF(N130="základná",J130,0) -> 0 | BF130: =IF(N130="znížená",J130,0) -> 0 | BG130: =IF(N130="zákl. prenesená",J130,0) -> 0 | BH130: =IF(N130="zníž. prenesená",J130,0) -> 0 | BI130: =IF(N130="nulová",J130,0) -> 0 | BJ130: 2 | BK130: =ROUND(I130*H130,3) -> 0 | BL130: 4 | BM130: -1749093263
C131: 6 | D131: K | E131: 979011201 | F131: Plastový sklz na stavebnú suť výšky do 10 m | G131: ks | H131: 150.017 | J131: =ROUND(I131*H131,3) -> 0 | N131: znížená | P131: =O131*H131 -> 0 | Q131: 0.00158 | R131: =Q131*H131 -> 0.23702686 | S131: 0 | T131: =S131*H131 -> 0 | AR131: 4 | AT131: K | AU131: 2 | AY131: ROZPOCET | BE131: =IF(N131="základná",J131,0) -> 0 | BF131: =IF(N131="znížená",J131,0) -> 0 | BG131: =IF(N131="zákl. prenesená",J131,0) -> 0 | BH131: =IF(N131="zníž. prenesená",J131,0) -> 0 | BI131: =IF(N131="nulová",J131,0) -> 0 | BJ131: 2 | BK131: =ROUND(I131*H131,3) -> 0 | BL131: 4 | BM131: -1964885403
C132: 7 | D132: K | E132: 979011202 | F132: Príplatok k cene za každý ďalší meter výšky | G132: m | H132: 2100.238 | J132: =ROUND(I132*H132,3) -> 0 | N132: znížená | P132: =O132*H132 -> 0 | Q132: 0.00014 | R132: =Q132*H132 -> 0.29403332 | S132: 0 | T132: =S132*H132 -> 0 | AR132: 4 | AT132: K | AU132: 2 | AY132: ROZPOCET | BE132: =IF(N132="základná",J132,0) -> 0 | BF132: =IF(N132="znížená",J132,0) -> 0 | BG132: =IF(N132="zákl. prenesená",J132,0) -> 0 | BH132: =IF(N132="zníž. prenesená",J132,0) -> 0 | BI132: =IF(N132="nulová",J132,0) -> 0 | BJ132: 2 | BK132: =ROUND(I132*H132,3) -> 0 | BL132: 4 | BM132: -21854981
C133: 8 | D133: K | E133: 979011233 | F133: Demontáž sklzu na stavebnú suť výšky do 30 m | G133: m | H133: 150.017 | J133: =ROUND(I133*H133,3) -> 0 | N133: znížená | P133: =O133*H133 -> 0 | Q133: 0 | R133: =Q133*H133 -> 0 | S133: 0 | T133: =S133*H133 -> 0 | AR133: 4 | AT133: K | AU133: 2 | AY133: ROZPOCET | BE133: =IF(N133="základná",J133,0) -> 0 | BF133: =IF(N133="znížená",J133,0) -> 0 | BG133: =IF(N133="zákl. prenesená",J133,0) -> 0 | BH133: =IF(N133="zníž. prenesená",J133,0) -> 0 | BI133: =IF(N133="nulová",J133,0) -> 0 | BJ133: 2 | BK133: =ROUND(I133*H133,3) -> 0 | BL133: 4 | BM133: 1681511369
C134: 9 | D134: K | E134: 979081111 | F134: Odvoz sutiny a vybúraných hmôt na skládku do 1 km | G134: t | H134: 150.017 | J134: =ROUND(I134*H134,3) -> 0 | N134: znížená | P134: =O134*H134 -> 0 | Q134: 0 | R134: =Q134*H134 -> 0 | S134: 0 | T134: =S134*H134 -> 0 | AR134: 4 | AT134: K | AU134: 2 | AY134: ROZPOCET | BE134: =IF(N134="základná",J134,0) -> 0 | BF134: =IF(N134="znížená",J134,0) -> 0 | BG134: =IF(N134="zákl. prenesená",J134,0) -> 0 | BH134: =IF(N134="zníž. prenesená",J134,0) -> 0 | BI134: =IF(N134="nulová",J134,0) -> 0 | BJ134: 2 | BK134: =ROUND(I134*H134,3) -> 0 | BL134: 4 | BM134: 779600135
C135: 10 | D135: K | E135: 979081121 | F135: Odvoz sutiny a vybúraných hmôt na skládku za každý ďalší 1 km | G135: t | H135: 7500.85 | J135: =ROUND(I135*H135,3) -> 0 | N135: znížená | P135: =O135*H135 -> 0 | Q135: 0 | R135: =Q135*H135 -> 0 | S135: 0 | T135: =S135*H135 -> 0 | AR135: 4 | AT135: K | AU135: 2 | AY135: ROZPOCET | BE135: =IF(N135="základná",J135,0) -> 0 | BF135: =IF(N135="znížená",J135,0) -> 0 | BG135: =IF(N135="zákl. prenesená",J135,0) -> 0 | BH135: =IF(N135="zníž. prenesená",J135,0) -> 0 | BI135: =IF(N135="nulová",J135,0) -> 0 | BJ135: 2 | BK135: =ROUND(I135*H135,3) -> 0 | BL135: 4 | BM135: 1693699297
C136: 11 | D136: K | E136: 979087213 | F136: Nakladanie na dopravné prostriedky pre vodorovnú dopravu vybúraných hmôt | G136: t | H136: 150.017 | J136: =ROUND(I136*H136,3) -> 0 | N136: znížená | P136: =O136*H136 -> 0 | Q136: 0 | R136: =Q136*H136 -> 0 | S136: 0 | T136: =S136*H136 -> 0 | AR136: 4 | AT136: K | AU136: 2 | AY136: ROZPOCET | BE136: =IF(N136="základná",J136,0) -> 0 | BF136: =IF(N136="znížená",J136,0) -> 0 | BG136: =IF(N136="zákl. prenesená",J136,0) -> 0 | BH136: =IF(N136="zníž. prenesená",J136,0) -> 0 | BI136: =IF(N136="nulová",J136,0) -> 0 | BJ136: 2 | BK136: =ROUND(I136*H136,3) -> 0 | BL136: 4 | BM136: 1585685783
C137: 12 | D137: K | E137: 979089002 | F137: Poplatok za skladovanie - suť, obaly, (15 01, 02, 06) ostatné | G137: t | H137: 150.017 | J137: =ROUND(I137*H137,3) -> 0 | N137: znížená | P137: =O137*H137 -> 0 | Q137: 0 | R137: =Q137*H137 -> 0 | S137: 0 | T137: =S137*H137 -> 0 | AR137: 4 | AT137: K | AU137: 2 | AY137: ROZPOCET | BE137: =IF(N137="základná",J137,0) -> 0 | BF137: =IF(N137="znížená",J137,0) -> 0 | BG137: =IF(N137="zákl. prenesená",J137,0) -> 0 | BH137: =IF(N137="zníž. prenesená",J137,0) -> 0 | BI137: =IF(N137="nulová",J137,0) -> 0 | BJ137: 2 | BK137: =ROUND(I137*H137,3) -> 0 | BL137: 4 | BM137: -1415877584
D138: D | E138: 99 | F138: Presun hmôt HSV | J138: =BK138 -> 0 | P138: =P139 -> 0 | R138: =R139 -> 0 | T138: =T139 -> 0 | AR138: 1 | AT138: D | AU138: 1 | AY138: ROZPOCET | BK138: =BK139 -> 0
C139: 13 | D139: K | E139: 999281111 | F139: Presun hmôt pre opravy a údržbu objektov vrátane vonkajších plášťov výšky do 25 m | G139: t | H139: 168.579 | J139: =ROUND(I139*H139,3) -> 0 | N139: znížená | P139: =O139*H139 -> 0 | Q139: 0 | R139: =Q139*H139 -> 0 | S139: 0 | T139: =S139*H139 -> 0 | AR139: 4 | AT139: K | AU139: 2 | AY139: ROZPOCET | BE139: =IF(N139="základná",J139,0) -> 0 | BF139: =IF(N139="znížená",J139,0) -> 0 | BG139: =IF(N139="zákl. prenesená",J139,0) -> 0 | BH139: =IF(N139="zníž. prenesená",J139,0) -> 0 | BI139: =IF(N139="nulová",J139,0) -> 0 | BJ139: 2 | BK139: =ROUND(I139*H139,3) -> 0 | BL139: 4 | BM139: 68722744
D140: D | E140: PSV | F140: Práce a dodávky PSV | J140: =BK140 -> 0 | P140: =P141+P156+P168+P182 -> 0 | R140: =R141+R156+R168+R182 -> 52.60772 | T140: =T141+T156+T168+T182 -> 97.408784 | AR140: 2 | AT140: D | AU140: 0 | AY140: ROZPOCET | BK140: =BK141+BK156+BK168+BK182 -> 0
D141: D | E141: 762 | F141: Konštrukcie tesárske | J141: =BK141 -> 0 | P141: =SUM(P142:P155) -> 0 | R141: =SUM(R142:R155) -> 24.782477 | T141: =SUM(T142:T155) -> 50.547644 | AR141: 2 | AT141: D | AU141: 1 | AY141: ROZPOCET | BK141: =SUM(BK142:BK155) -> 0
C142: 14 | D142: K | E142: 762084111 | F142: Príplatok k cene za práce na strechách, na konštrukciách krovov, výšky nad 4 do 12 m | G142: m | H142: 1342.786 | J142: =ROUND(I142*H142,3) -> 0 | N142: znížená | P142: =O142*H142 -> 0 | Q142: 0 | R142: =Q142*H142 -> 0 | S142: 0 | T142: =S142*H142 -> 0 | AR142: 16 | AT142: K | AU142: 2 | AY142: ROZPOCET | BE142: =IF(N142="základná",J142,0) -> 0 | BF142: =IF(N142="znížená",J142,0) -> 0 | BG142: =IF(N142="zákl. prenesená",J142,0) -> 0 | BH142: =IF(N142="zníž. prenesená",J142,0) -> 0 | BI142: =IF(N142="nulová",J142,0) -> 0 | BJ142: 2 | BK142: =ROUND(I142*H142,3) -> 0 | BL142: 16 | BM142: -1991307350
C143: 15 | D143: K | E143: 762084211 | F143: Príplatok k cene pre debnenie a latovanie krovov, výšky nad 4 do 12 m | G143: m2 | H143: 1141.86 | J143: =ROUND(I143*H143,3) -> 0 | N143: znížená | P143: =O143*H143 -> 0 | Q143: 0 | R143: =Q143*H143 -> 0 | S143: 0 | T143: =S143*H143 -> 0 | AR143: 16 | AT143: K | AU143: 2 | AY143: ROZPOCET | BE143: =IF(N143="základná",J143,0) -> 0 | BF143: =IF(N143="znížená",J143,0) -> 0 | BG143: =IF(N143="zákl. prenesená",J143,0) -> 0 | BH143: =IF(N143="zníž. prenesená",J143,0) -> 0 | BI143: =IF(N143="nulová",J143,0) -> 0 | BJ143: 2 | BK143: =ROUND(I143*H143,3) -> 0 | BL143: 16 | BM143: 2047419154
C144: 16 | D144: K | E144: 762313112 | F144: Montáž oceľových spojovacích prostriedkov - svorníkov, skrutiek dĺžky nad 150 do 300 mm | G144: ks | H144: 236 | J144: =ROUND(I144*H144,3) -> 0 | N144: znížená | P144: =O144*H144 -> 0 | Q144: 0 | R144: =Q144*H144 -> 0 | S144: 0 | T144: =S144*H144 -> 0 | AR144: 16 | AT144: K | AU144: 2 | AY144: ROZPOCET | BE144: =IF(N144="základná",J144,0) -> 0 | BF144: =IF(N144="znížená",J144,0) -> 0 | BG144: =IF(N144="zákl. prenesená",J144,0) -> 0 | BH144: =IF(N144="zníž. prenesená",J144,0) -> 0 | BI144: =IF(N144="nulová",J144,0) -> 0 | BJ144: 2 | BK144: =ROUND(I144*H144,3) -> 0 | BL144: 16 | BM144: 211418345
C145: 17 | D145: M | E145: 311720001100 | F145: Tyč závitová M 20 mm, dĺ. 2 m, norma DIN 975, pevnostná trieda 4.8, zinkovaná | G145: ks | H145: 236 | J145: =ROUND(I145*H145,3) -> 0 | N145: znížená | P145: =O145*H145 -> 0 | Q145: 0.00396 | R145: =Q145*H145 -> 0.93456 | S145: 0 | T145: =S145*H145 -> 0 | AR145: 32 | AT145: M | AU145: 2 | AY145: ROZPOCET | BE145: =IF(N145="základná",J145,0) -> 0 | BF145: =IF(N145="znížená",J145,0) -> 0 | BG145: =IF(N145="zákl. prenesená",J145,0) -> 0 | BH145: =IF(N145="zníž. prenesená",J145,0) -> 0 | BI145: =IF(N145="nulová",J145,0) -> 0 | BJ145: 2 | BK145: =ROUND(I145*H145,3) -> 0 | BL145: 16 | BM145: 180267755
C146: 18 | D146: K | E146: 762331813 | F146: Demontáž viazaných konštrukcií krovov so sklonom do 60°, prierez. plochy 224 - 288 cm2, -0.02400t | G146: m | H146: 1369.151 | J146: =ROUND(I146*H146,3) -> 0 | N146: znížená | P146: =O146*H146 -> 0 | Q146: 0 | R146: =Q146*H146 -> 0 | S146: 0.034 | T146: =S146*H146 -> 46.551134 | AR146: 16 | AT146: K | AU146: 2 | AY146: ROZPOCET | BE146: =IF(N146="základná",J146,0) -> 0 | BF146: =IF(N146="znížená",J146,0) -> 0 | BG146: =IF(N146="zákl. prenesená",J146,0) -> 0 | BH146: =IF(N146="zníž. prenesená",J146,0) -> 0 | BI146: =IF(N146="nulová",J146,0) -> 0 | BJ146: 2 | BK146: =ROUND(I146*H146,3) -> 0 | BL146: 16 | BM146: -1401088922
C147: 19 | D147: K | E147: 762332130 | F147: Montáž viazaných konštrukcií krovov striech z reziva priemernej plochy 224-288 cm2 | G147: m | H147: 1342.698 | J147: =ROUND(I147*H147,3) -> 0 | N147: znížená | P147: =O147*H147 -> 0 | Q147: 0.00026 | R147: =Q147*H147 -> 0.34910148 | S147: 0 | T147: =S147*H147 -> 0 | AR147: 16 | AT147: K | AU147: 2 | AY147: ROZPOCET | BE147: =IF(N147="základná",J147,0) -> 0 | BF147: =IF(N147="znížená",J147,0) -> 0 | BG147: =IF(N147="zákl. prenesená",J147,0) -> 0 | BH147: =IF(N147="zníž. prenesená",J147,0) -> 0 | BI147: =IF(N147="nulová",J147,0) -> 0 | BJ147: 2 | BK147: =ROUND(I147*H147,3) -> 0 | BL147: 16 | BM147: -1571206070
C148: 20 | D148: M | E148: 605120009800 | F148: Hranoly zo smrekovca neopracované hranené akosť II dĺ. 4000-6500 mm, hr. 160 mm, š. 160, 180, 220 mm | G148: m3 | H148: 31.182 | J148: =ROUND(I148*H148,3) -> 0 | N148: znížená | P148: =O148*H148 -> 0 | Q148: 0.55 | R148: =Q148*H148 -> 17.1501 | S148: 0 | T148: =S148*H148 -> 0 | AR148: 32 | AT148: M | AU148: 2 | AY148: ROZPOCET | BE148: =IF(N148="základná",J148,0) -> 0 | BF148: =IF(N148="znížená",J148,0) -> 0 | BG148: =IF(N148="zákl. prenesená",J148,0) -> 0 | BH148: =IF(N148="zníž. prenesená",J148,0) -> 0 | BI148: =IF(N148="nulová",J148,0) -> 0 | BJ148: 2 | BK148: =ROUND(I148*H148,3) -> 0 | BL148: 16 | BM148: 1321742615
C149: 21 | D149: K | E149: 762341202 | F149: Montáž latovania zložitých striech pre sklon do 60° | G149: m | H149: 2854.65 | J149: =ROUND(I149*H149,3) -> 0 | N149: znížená | P149: =O149*H149 -> 0 | Q149: 0 | R149: =Q149*H149 -> 0 | S149: 0 | T149: =S149*H149 -> 0 | AR149: 16 | AT149: K | AU149: 2 | AY149: ROZPOCET | BE149: =IF(N149="základná",J149,0) -> 0 | BF149: =IF(N149="znížená",J149,0) -> 0 | BG149: =IF(N149="zákl. prenesená",J149,0) -> 0 | BH149: =IF(N149="zníž. prenesená",J149,0) -> 0 | BI149: =IF(N149="nulová",J149,0) -> 0 | BJ149: 2 | BK149: =ROUND(I149*H149,3) -> 0 | BL149: 16 | BM149: 1083533976
C150: 22 | D150: M | E150: 605330001600 | F150: Laty zo smreku akosť A prierez do 25 cm2, dĺ. 300-990 mm | G150: m3 | H150: 6.28 | J150: =ROUND(I150*H150,3) -> 0 | N150: znížená | P150: =O150*H150 -> 0 | Q150: 0.55 | R150: =Q150*H150 -> 3.454 | S150: 0 | T150: =S150*H150 -> 0 | AR150: 32 | AT150: M | AU150: 2 | AY150: ROZPOCET | BE150: =IF(N150="základná",J150,0) -> 0 | BF150: =IF(N150="znížená",J150,0) -> 0 | BG150: =IF(N150="zákl. prenesená",J150,0) -> 0 | BH150: =IF(N150="zníž. prenesená",J150,0) -> 0 | BI150: =IF(N150="nulová",J150,0) -> 0 | BJ150: 2 | BK150: =ROUND(I150*H150,3) -> 0 | BL150: 16 | BM150: 1471756413
C151: 23 | D151: K | E151: 762341252 | F151: Montáž kontralát pre sklon od 22° do 35° | G151: m | H151: 1450 | J151: =ROUND(I151*H151,3) -> 0 | N151: znížená | P151: =O151*H151 -> 0 | Q151: 0 | R151: =Q151*H151 -> 0 | S151: 0 | T151: =S151*H151 -> 0 | AR151: 16 | AT151: K | AU151: 2 | AY151: ROZPOCET | BE151: =IF(N151="základná",J151,0) -> 0 | BF151: =IF(N151="znížená",J151,0) -> 0 | BG151: =IF(N151="zákl. prenesená",J151,0) -> 0 | BH151: =IF(N151="zníž. prenesená",J151,0) -> 0 | BI151: =IF(N151="nulová",J151,0) -> 0 | BJ151: 2 | BK151: =ROUND(I151*H151,3) -> 0 | BL151: 16 | BM151: -836623993
C152: 24 | D152: M | E152: 605330001600 | F152: Laty zo smreku akosť A prierez do 25 cm2, dĺ. 300-990 mm | G152: m3 | H152: 3.19 | J152: =ROUND(I152*H152,3) -> 0 | N152: znížená | P152: =O152*H152 -> 0 | Q152: 0.55 | R152: =Q152*H152 -> 1.7545 | S152: 0 | T152: =S152*H152 -> 0 | AR152: 32 | AT152: M | AU152: 2 | AY152: ROZPOCET | BE152: =IF(N152="základná",J152,0) -> 0 | BF152: =IF(N152="znížená",J152,0) -> 0 | BG152: =IF(N152="zákl. prenesená",J152,0) -> 0 | BH152: =IF(N152="zníž. prenesená",J152,0) -> 0 | BI152: =IF(N152="nulová",J152,0) -> 0 | BJ152: 2 | BK152: =ROUND(I152*H152,3) -> 0 | BL152: 16 | BM152: 2111660674
C153: 25 | D153: K | E153: 762342811 | F153: Demontáž latovania striech so sklonom do 60 st., pri osovej vzdialenosti lát do 0, 22 m, -0.00700t | G153: m2 | H153: 570.93 | J153: =ROUND(I153*H153,3) -> 0 | N153: znížená | P153: =O153*H153 -> 0 | Q153: 0 | R153: =Q153*H153 -> 0 | S153: 0.007 | T153: =S153*H153 -> 3.99651 | AR153: 16 | AT153: K | AU153: 2 | AY153: ROZPOCET | BE153: =IF(N153="základná",J153,0) -> 0 | BF153: =IF(N153="znížená",J153,0) -> 0 | BG153: =IF(N153="zákl. prenesená",J153,0) -> 0 | BH153: =IF(N153="zníž. prenesená",J153,0) -> 0 | BI153: =IF(N153="nulová",J153,0) -> 0 | BJ153: 2 | BK153: =ROUND(I153*H153,3) -> 0 | BL153: 16 | BM153: 1615182105
... C155: 27 | D155: K | E155: 998762102 | F155: Presun hmôt pre konštrukcie tesárske v objektoch výšky do 12 m | G155: t | H155: 24.782 | J155: =ROUND(I155*H155,3) -> 0 | N155: znížená | P155: =O155*H155 -> 0 | Q155: 0 | R155: =Q155*H155 -> 0 | S155: 0 | T155: =S155*H155 -> 0 | AR155: 16 | AT155: K | AU155: 2 | AY155: ROZPOCET | BE155: =IF(N155="základná",J155,0) -> 0 | BF155: =IF(N155="znížená",J155,0) -> 0 | BG155: =IF(N155="zákl. prenesená",J155,0) -> 0 | BH155: =IF(N155="zníž. prenesená",J155,0) -> 0 | BI155: =IF(N155="nulová",J155,0) -> 0 | BJ155: 2 | BK155: =ROUND(I155*H155,3) -> 0 | BL155: 16 | BM155: 1015756059
D156: D | E156: 764 | F156: Konštrukcie klampiarske | J156: =BK156 -> 0 | P156: =SUM(P157:P167) -> 0 | R156: =SUM(R157:R167) -> 0.4461996 | T156: =SUM(T157:T167) -> 1.18674 | AR156: 2 | AT156: D | AU156: 1 | AY156: ROZPOCET | BK156: =SUM(BK157:BK167) -> 0
C157: 28 | D157: K | E157: 764323830 | F157: Demontáž odkvapov na strechách s krytinou rš 330 mm, -0,00320t | G157: m | H157: 117.48 | J157: =ROUND(I157*H157,3) -> 0 | N157: znížená | P157: =O157*H157 -> 0 | Q157: 0 | R157: =Q157*H157 -> 0 | S157: 0.0032 | T157: =S157*H157 -> 0.375936 | AR157: 16 | AT157: K | AU157: 2 | AY157: ROZPOCET | BE157: =IF(N157="základná",J157,0) -> 0 | BF157: =IF(N157="znížená",J157,0) -> 0 | BG157: =IF(N157="zákl. prenesená",J157,0) -> 0 | BH157: =IF(N157="zníž. prenesená",J157,0) -> 0 | BI157: =IF(N157="nulová",J157,0) -> 0 | BJ157: 2 | BK157: =ROUND(I157*H157,3) -> 0 | BL157: 16 | BM157: -2044815401
C158: 29 | D158: K | E158: 764353845 | F158: Demontáž žľabov nadrímsových štvorhranných v lôžku so sklonom do 30° rš 500 mm, -0,00430t | G158: m | H158: 117.48 | J158: =ROUND(I158*H158,3) -> 0 | N158: znížená | P158: =O158*H158 -> 0 | Q158: 0 | R158: =Q158*H158 -> 0 | S158: 0.0043 | T158: =S158*H158 -> 0.505164 | AR158: 16 | AT158: K | AU158: 2 | AY158: ROZPOCET | BE158: =IF(N158="základná",J158,0) -> 0 | BF158: =IF(N158="znížená",J158,0) -> 0 | BG158: =IF(N158="zákl. prenesená",J158,0) -> 0 | BH158: =IF(N158="zníž. prenesená",J158,0) -> 0 | BI158: =IF(N158="nulová",J158,0) -> 0 | BJ158: 2 | BK158: =ROUND(I158*H158,3) -> 0 | BL158: 16 | BM158: -795096426
C159: 30 | D159: K | E159: 764359810 | F159: Demontáž kotlíka kónického, so sklonom žľabu do 30st., -0,00110t | G159: ks | H159: 6 | J159: =ROUND(I159*H159,3) -> 0 | N159: znížená | P159: =O159*H159 -> 0 | Q159: 0 | R159: =Q159*H159 -> 0 | S159: 0.0011 | T159: =S159*H159 -> 0.0066 | AR159: 16 | AT159: K | AU159: 2 | AY159: ROZPOCET | BE159: =IF(N159="základná",J159,0) -> 0 | BF159: =IF(N159="znížená",J159,0) -> 0 | BG159: =IF(N159="zákl. prenesená",J159,0) -> 0 | BH159: =IF(N159="zníž. prenesená",J159,0) -> 0 | BI159: =IF(N159="nulová",J159,0) -> 0 | BJ159: 2 | BK159: =ROUND(I159*H159,3) -> 0 | BL159: 16 | BM159: -541273043
C160: 31 | D160: K | E160: 764454803 | F160: Demontáž odpadových rúr kruhových, s priemerom 150 mm, -0,00356t | G160: m | H160: 84 | J160: =ROUND(I160*H160,3) -> 0 | N160: znížená | P160: =O160*H160 -> 0 | Q160: 0 | R160: =Q160*H160 -> 0 | S160: 0.00356 | T160: =S160*H160 -> 0.29904 | AR160: 16 | AT160: K | AU160: 2 | AY160: ROZPOCET | BE160: =IF(N160="základná",J160,0) -> 0 | BF160: =IF(N160="znížená",J160,0) -> 0 | BG160: =IF(N160="zákl. prenesená",J160,0) -> 0 | BH160: =IF(N160="zníž. prenesená",J160,0) -> 0 | BI160: =IF(N160="nulová",J160,0) -> 0 | BJ160: 2 | BK160: =ROUND(I160*H160,3) -> 0 | BL160: 16 | BM160: -1598725046
C161: 32 | D161: K | E161: 764751113 | F161: Odpadová rúra kruhová D 120 mm | G161: m | H161: 84 | J161: =ROUND(I161*H161,3) -> 0 | N161: znížená | P161: =O161*H161 -> 0 | Q161: 0.0027 | R161: =Q161*H161 -> 0.2268 | S161: 0 | T161: =S161*H161 -> 0 | AR161: 16 | AT161: K | AU161: 2 | AY161: ROZPOCET | BE161: =IF(N161="základná",J161,0) -> 0 | BF161: =IF(N161="znížená",J161,0) -> 0 | BG161: =IF(N161="zákl. prenesená",J161,0) -> 0 | BH161: =IF(N161="zníž. prenesená",J161,0) -> 0 | BI161: =IF(N161="nulová",J161,0) -> 0 | BJ161: 2 | BK161: =ROUND(I161*H161,3) -> 0 | BL161: 16 | BM161: 886546237
C162: 33 | D162: K | E162: 764751122 | F162: Spodný diel odpadovej rúry D 100 mm | G162: ks | H162: 6 | J162: =ROUND(I162*H162,3) -> 0 | N162: znížená | P162: =O162*H162 -> 0 | Q162: 0.00077 | R162: =Q162*H162 -> 0.00462 | S162: 0 | T162: =S162*H162 -> 0 | AR162: 16 | AT162: K | AU162: 2 | AY162: ROZPOCET | BE162: =IF(N162="základná",J162,0) -> 0 | BF162: =IF(N162="znížená",J162,0) -> 0 | BG162: =IF(N162="zákl. prenesená",J162,0) -> 0 | BH162: =IF(N162="zníž. prenesená",J162,0) -> 0 | BI162: =IF(N162="nulová",J162,0) -> 0 | BJ162: 2 | BK162: =ROUND(I162*H162,3) -> 0 | BL162: 16 | BM162: 1503270206
C163: 34 | D163: K | E163: 764751142 | F163: Výtokové koleno potrubia D 100 mm | G163: ks | H163: 6 | J163: =ROUND(I163*H163,3) -> 0 | N163: znížená | P163: =O163*H163 -> 0 | Q163: 0.00039 | R163: =Q163*H163 -> 0.00234 | S163: 0 | T163: =S163*H163 -> 0 | AR163: 16 | AT163: K | AU163: 2 | AY163: ROZPOCET | BE163: =IF(N163="základná",J163,0) -> 0 | BF163: =IF(N163="znížená",J163,0) -> 0 | BG163: =IF(N163="zákl. prenesená",J163,0) -> 0 | BH163: =IF(N163="zníž. prenesená",J163,0) -> 0 | BI163: =IF(N163="nulová",J163,0) -> 0 | BJ163: 2 | BK163: =ROUND(I163*H163,3) -> 0 | BL163: 16 | BM163: -2096824257
C164: 35 | D164: K | E164: 764751152 | F164: Odskok odtokového potrubia D 100 mm | G164: ks | H164: 6 | J164: =ROUND(I164*H164,3) -> 0 | N164: znížená | P164: =O164*H164 -> 0 | Q164: 0.00039 | R164: =Q164*H164 -> 0.00234 | S164: 0 | T164: =S164*H164 -> 0 | AR164: 16 | AT164: K | AU164: 2 | AY164: ROZPOCET | BE164: =IF(N164="základná",J164,0) -> 0 | BF164: =IF(N164="znížená",J164,0) -> 0 | BG164: =IF(N164="zákl. prenesená",J164,0) -> 0 | BH164: =IF(N164="zníž. prenesená",J164,0) -> 0 | BI164: =IF(N164="nulová",J164,0) -> 0 | BJ164: 2 | BK164: =ROUND(I164*H164,3) -> 0 | BL164: 16 | BM164: -1623387778
C165: 36 | D165: K | E165: 764761111 | F165: Žľab pododkvapový nadrímsovy rozmer 136 mm, vrátane čela, hákov, rohov, kútov | G165: m | H165: 117.48 | J165: =ROUND(I165*H165,3) -> 0 | N165: znížená | P165: =O165*H165 -> 0 | Q165: 0.00177 | R165: =Q165*H165 -> 0.2079396 | S165: 0 | T165: =S165*H165 -> 0 | AR165: 16 | AT165: K | AU165: 2 | AY165: ROZPOCET | BE165: =IF(N165="základná",J165,0) -> 0 | BF165: =IF(N165="znížená",J165,0) -> 0 | BG165: =IF(N165="zákl. prenesená",J165,0) -> 0 | BH165: =IF(N165="zníž. prenesená",J165,0) -> 0 | BI165: =IF(N165="nulová",J165,0) -> 0 | BJ165: 2 | BK165: =ROUND(I165*H165,3) -> 0 | BL165: 16 | BM165: -948193485
C166: 37 | D166: K | E166: 764761235 | F166: Žľabový kotlík k štvorhranným žľabom rozmer 136 mm | G166: ks | H166: 6 | J166: =ROUND(I166*H166,3) -> 0 | N166: znížená | P166: =O166*H166 -> 0 | Q166: 0.00036 | R166: =Q166*H166 -> 0.00216 | S166: 0 | T166: =S166*H166 -> 0 | AR166: 16 | AT166: K | AU166: 2 | AY166: ROZPOCET | BE166: =IF(N166="základná",J166,0) -> 0 | BF166: =IF(N166="znížená",J166,0) -> 0 | BG166: =IF(N166="zákl. prenesená",J166,0) -> 0 | BH166: =IF(N166="zníž. prenesená",J166,0) -> 0 | BI166: =IF(N166="nulová",J166,0) -> 0 | BJ166: 2 | BK166: =ROUND(I166*H166,3) -> 0 | BL166: 16 | BM166: -854326984
C167: 38 | D167: K | E167: 998764202 | F167: Presun hmôt pre konštrukcie klampiarske v objektoch výšky nad 6 do 12 m | G167: % | J167: =ROUND(I167*H167,3) -> 0 | N167: znížená | P167: =O167*H167 -> 0 | Q167: 0 | R167: =Q167*H167 -> 0 | S167: 0 | T167: =S167*H167 -> 0 | AR167: 16 | AT167: K | AU167: 2 | AY167: ROZPOCET | BE167: =IF(N167="základná",J167,0) -> 0 | BF167: =IF(N167="znížená",J167,0) -> 0 | BG167: =IF(N167="zákl. prenesená",J167,0) -> 0 | BH167: =IF(N167="zníž. prenesená",J167,0) -> 0 | BI167: =IF(N167="nulová",J167,0) -> 0 | BJ167: 2 | BK167: =ROUND(I167*H167,3) -> 0 | BL167: 16 | BM167: -1752468261
D168: D | E168: 765 | F168: Konštrukcie - krytiny tvrdé | J168: =BK168 -> 0 | P168: =SUM(P169:P181) -> 0 | R168: =SUM(R169:R181) -> 27.171956 | T168: =SUM(T169:T181) -> 45.6744 | AR168: 2 | AT168: D | AU168: 1 | AY168: ROZPOCET | BK168: =SUM(BK169:BK181) -> 0
C169: 39 | D169: K | E169: 765311820 | F169: Demontáž keramickej krytiny pálenej uloženej na sucho nad 30 ks/m2, do sutiny, sklon strechy -0,08t | G169: m2 | H169: 570.93 | J169: =ROUND(I169*H169,3) -> 0 | N169: znížená | P169: =O169*H169 -> 0 | Q169: 0 | R169: =Q169*H169 -> 0 | S169: 0.08 | T169: =S169*H169 -> 45.6744 | AR169: 16 | AT169: K | AU169: 2 | AY169: ROZPOCET | BE169: =IF(N169="základná",J169,0) -> 0 | BF169: =IF(N169="znížená",J169,0) -> 0 | BG169: =IF(N169="zákl. prenesená",J169,0) -> 0 | BH169: =IF(N169="zníž. prenesená",J169,0) -> 0 | BI169: =IF(N169="nulová",J169,0) -> 0 | BJ169: 2 | BK169: =ROUND(I169*H169,3) -> 0 | BL169: 16 | BM169: 510272035
...
